BEGIN:VCALENDAR
VERSION:2.0
PRODID:-//EXTREME MUSIC EVENTS - ECPv5.16.4//NONSGML v1.0//EN
CALSCALE:GREGORIAN
METHOD:PUBLISH
X-WR-CALNAME:EXTREME MUSIC EVENTS
X-ORIGINAL-URL:https://extrememusicevents.com
X-WR-CALDESC:Eventos para EXTREME MUSIC EVENTS
BEGIN:VTIMEZONE
TZID:Europe/Madrid
BEGIN:DAYLIGHT
TZOFFSETFROM:+0100
TZOFFSETTO:+0200
TZNAME:CEST
DTSTART:20240331T010000
END:DAYLIGHT
BEGIN:STANDARD
TZOFFSETFROM:+0200
TZOFFSETTO:+0100
TZNAME:CET
DTSTART:20241027T010000
END:STANDARD
END:VTIMEZONE
BEGIN:VEVENT
DTSTART;TZID=Europe/Madrid:20240628T213000
DTEND;TZID=Europe/Madrid:20240628T233000
DTSTAMP:20260420T175532
CREATED:20240618T160958Z
LAST-MODIFIED:20240618T161724Z
UID:9416-1719610200-1719617400@extrememusicevents.com
SUMMARY:Alice Cooper
DESCRIPTION:Alice Cooper\, pionero de un espectáculo teatral de rock duro diseñado para impactar\, fusiona horror\, vodevil y garage rock en sus actuaciones. El artista originario de Detroit tiene un show electrizante e inconfundible con sillas eléctricas\, falsas guillotinas y boas constrictoras. Las atrevidas hazañas de Cooper continúan cautivando a fans de todo el mundo\, desafiando las normas sin miedo a nada. El viaje musical de Cooper\, tanto con la banda original como en su carrera en solitario\, incluye éxitos como «Love It to Death»\, «Killer» y «School’s Out». Alice es un icono cultural consolidado y un referente legendario en la escena hard rock mundial. En los años 80\, Cooper exploró multitud de sonoridades distintas en álbumes como «Flush The Fashion»\, «Constrictor» o «Trash»\, disco que incluye el hit «Poison». La influencia del rockero también ha llegado a la gran pantalla\, en películas de terror como Prince of Darkness y en apariciones en programas míticos como That ‘70s Show. Además\, durante la década de los 90\, reforzó aún más su legado como artista multifacético encargado de redefinir los límites del rock y el entretenimiento\, gracias a álbumes como «Hey Stoopid”\, «The Last Temptation» o el poderoso largo en vivo: «Fistful of Alice». \n  \nENTRADAS: \nwww.ticketmaster.es/artist/alma-festival-entradas
URL:https://extrememusicevents.com/previa/alice-cooper/
LOCATION:POBLE ESPANYOL\, Av. Francesc Ferrer i Guàrdia\, 13\, Barcelona\, Barcelona\, 08038
ATTACH;FMTTYPE=image/png:https://extrememusicevents.com/wp-content/uploads/2024/06/Alice-Cooper-Alma-festival.png
END:VEVENT
END:VCALENDAR