BEGIN:VCALENDAR
VERSION:2.0
PRODID:-//EXTREME MUSIC EVENTS - ECPv5.16.4//NONSGML v1.0//EN
CALSCALE:GREGORIAN
METHOD:PUBLISH
X-WR-CALNAME:EXTREME MUSIC EVENTS
X-ORIGINAL-URL:https://extrememusicevents.com
X-WR-CALDESC:Eventos para EXTREME MUSIC EVENTS
BEGIN:VTIMEZONE
TZID:Europe/Madrid
BEGIN:DAYLIGHT
TZOFFSETFROM:+0100
TZOFFSETTO:+0200
TZNAME:CEST
DTSTART:20220327T010000
END:DAYLIGHT
BEGIN:STANDARD
TZOFFSETFROM:+0200
TZOFFSETTO:+0100
TZNAME:CET
DTSTART:20221030T010000
END:STANDARD
END:VTIMEZONE
BEGIN:VEVENT
DTSTART;TZID=Europe/Madrid:20221019T203000
DTEND;TZID=Europe/Madrid:20221019T233000
DTSTAMP:20260423T200610
CREATED:20201008T174654Z
LAST-MODIFIED:20210622T092517Z
UID:5428-1666211400-1666222200@extrememusicevents.com
SUMMARY:All Them Witches
DESCRIPTION:All Them Witches es una banda de rock psicodélico formada en 2012 y originaria de la estadounidense localidad de Nashville. Hasta el momento han publicado seis álbumes de estudio\, el último de ellos\, “Nothing As The Ideal”\, en septiembre de 2020\, grabado en los históricos estudios londinenses Abbey Road. \nSu discografía -que desde el verano de 2015 sale en el sello New West– se completa con dos largos en directo\, cuatro EPs y siete singles con canciones que no se encuentran en sus LPs. \nSus miembros actuales\, tras algún cambio de formación (nacieron como cuarteto)\, son Charles Michael Parks Jr. (vocalista y multiinstrumentista)\, Ben McLeod (guitarrista) y Robby Staebler (batería). Ponen al día con tremendo vigor las enseñanzas de grupos como Led Zeppelin y Blue Cheer\, sin olvidar también la reverberación eléctrica del blues de Junior Kimbrough. A lo que hay que sumar un directo audaz\, espacial y humeante. \n  \nENTRADAS: \nhttps://houstonpartymusic.com/tour-dates/
URL:https://extrememusicevents.com/previa/all-them-witches/
LOCATION:RAZZMATAZZ 1\, Carrer dels Almogàvers\, 122\, BARCELONA\, BARCELONA\, 08018\, España
ATTACH;FMTTYPE=image/jpeg:https://extrememusicevents.com/wp-content/uploads/2020/10/2022-10-19-All-Them-Whitches-scaled.jpg
END:VEVENT
END:VCALENDAR