BEGIN:VCALENDAR
VERSION:2.0
PRODID:-//EXTREME MUSIC EVENTS - ECPv5.16.4//NONSGML v1.0//EN
CALSCALE:GREGORIAN
METHOD:PUBLISH
X-WR-CALNAME:EXTREME MUSIC EVENTS
X-ORIGINAL-URL:https://extrememusicevents.com
X-WR-CALDESC:Eventos para EXTREME MUSIC EVENTS
BEGIN:VTIMEZONE
TZID:Europe/Madrid
BEGIN:DAYLIGHT
TZOFFSETFROM:+0100
TZOFFSETTO:+0200
TZNAME:CEST
DTSTART:20220327T010000
END:DAYLIGHT
BEGIN:STANDARD
TZOFFSETFROM:+0200
TZOFFSETTO:+0100
TZNAME:CET
DTSTART:20221030T010000
END:STANDARD
END:VTIMEZONE
BEGIN:VEVENT
DTSTART;TZID=Europe/Madrid:20221120T170000
DTEND;TZID=Europe/Madrid:20221120T233000
DTSTAMP:20260422T135306
CREATED:20221012T103905Z
LAST-MODIFIED:20221111T162921Z
UID:8147-1668963600-1668987000@extrememusicevents.com
SUMMARY:Alter Bridge
DESCRIPTION:Sí\, estás leyendo bien\, Alter Bridge\, la banda liderada por Mark Tremonti y Myles Kennedy estará actuando junto a Halestorm en nuestro país el próximo mes de noviembre. \nTras dos años dedicados a sus proyectos paralelos\, la formación estadounidense Alter Bridge acaba de sumergirse en el estudio de grabación para dar forma al que será su próximo trabajo y sucesor del fabuloso “Walk The Sky” (2019) con el que ya pisaron los escenarios españoles ese mismo año en dos gloriosos conciertos. \nEl inimitable Myles Kennedy de Alter Bridge comenta: “Alter Bridge regresa a España este invierno con nuestros amigos de Halestorm y Mammoth. Va a ser una deliciosa mezcla heterogénea sónica de Rock & Roll que hará temblar la Tierra. ¡No te lo pierdas!”. \n¿Qué decir de nuestra querida Lzzy Hale y sus Halestorm a estas alturas? Nos quedamos con muchísimas ganas de disfrutar de sus conciertos en nuestro país el pasado mes de febrero debido a los últimos coletazos de la pandemia\, pero aquí vuelven ¡y esta vez con un nuevo álbum! “Back From The Dead” verá la luz el próximo 6 de mayo y a juzgar por sus dos adelantos va a ser un melocotonazo de miel. \nLzzy Hale de Halestorm: “A todos nuestros Freaks españoles\, los hemos extrañado y estamos muy felices de anunciar que finalmente cruzaremos el océano para volver a verlos a todos. ¡Esta vez compartiremos el escenario con los legendarios Alter Bridge y los únicos Mammoth WVH! ¡No querrás perderte esto! ¡No puedo esperar para experimentar vuestra pasión\, los fanáticos de Euro Rock! ¡Nos vemos!” \nAbriendo para estos dos titanes podremos disfrutar de Mammoth WVH\, el trabucazo de banda que se ha montado Wolfang Van Halen\, el hijo de Eddie Van Halen\, y cuyo álbum debut de título homónimo supone una refrescante descarga de hard rock. \nViernes 18 de noviembre en Madrid y domingo 20 en Barcelona no hagáis planes porque esta gira es absolutamente imprescindible. ¡Allí nos vemos! \n  \nENTRADAS: \nhttps://ticketmadness.es/es/
URL:https://extrememusicevents.com/previa/alter-bridge/
LOCATION:RAZZMATAZZ 1\, Carrer dels Almogàvers\, 122\, BARCELONA\, BARCELONA\, 08018\, España
ATTACH;FMTTYPE=image/jpeg:https://extrememusicevents.com/wp-content/uploads/2022/10/2022-11-20-Alter-Bridge.jpg
END:VEVENT
END:VCALENDAR