BEGIN:VCALENDAR
VERSION:2.0
PRODID:-//EXTREME MUSIC EVENTS - ECPv5.16.4//NONSGML v1.0//EN
CALSCALE:GREGORIAN
METHOD:PUBLISH
X-WR-CALNAME:EXTREME MUSIC EVENTS
X-ORIGINAL-URL:https://extrememusicevents.com
X-WR-CALDESC:Eventos para EXTREME MUSIC EVENTS
BEGIN:VTIMEZONE
TZID:Europe/Madrid
BEGIN:DAYLIGHT
TZOFFSETFROM:+0100
TZOFFSETTO:+0200
TZNAME:CEST
DTSTART:20220327T010000
END:DAYLIGHT
BEGIN:STANDARD
TZOFFSETFROM:+0200
TZOFFSETTO:+0100
TZNAME:CET
DTSTART:20221030T010000
END:STANDARD
END:VTIMEZONE
BEGIN:VEVENT
DTSTART;TZID=Europe/Madrid:20221015T180000
DTEND;TZID=Europe/Madrid:20221015T233000
DTSTAMP:20260424T071410
CREATED:20200408T121304Z
LAST-MODIFIED:20211213T090754Z
UID:4981-1665856800-1665876600@extrememusicevents.com
SUMMARY:Amaranthe + Beyond the Black
DESCRIPTION:Informamos que la gira de Amaranthe + Beyond the Black prevista para enero de 2022 se pospone a octubre de 2022. \nLas bandas Butcher Babies y Ad Infinitum se unen a la gira. \nComunicado: \n«Desafortunadamente tenemos malas noticias\, el tour previsto para enero de 2022 se vuelve a posponer al mes de octubre del mismo año debido a la actual situación por el Covid por toda europa\, ¡esperamos veros pronto!» \n  \nENTRADAS: \nhttps://ticketmadness.es/es/
URL:https://extrememusicevents.com/previa/amaranthe-beyond-the-black/
LOCATION:SALAMANDRA\, Av. Carrilet\, 235\, HOSPITALET DEL LLOBREGAT\, BARCELONA\, 08907\, España
ATTACH;FMTTYPE=image/jpeg:https://extrememusicevents.com/wp-content/uploads/2020/04/2022-10-15-amaranthe.jpg
END:VEVENT
END:VCALENDAR