BEGIN:VCALENDAR
VERSION:2.0
PRODID:-//EXTREME MUSIC EVENTS - ECPv5.16.4//NONSGML v1.0//EN
CALSCALE:GREGORIAN
METHOD:PUBLISH
X-WR-CALNAME:EXTREME MUSIC EVENTS
X-ORIGINAL-URL:https://extrememusicevents.com
X-WR-CALDESC:Eventos para EXTREME MUSIC EVENTS
BEGIN:VTIMEZONE
TZID:Europe/Madrid
BEGIN:DAYLIGHT
TZOFFSETFROM:+0100
TZOFFSETTO:+0200
TZNAME:CEST
DTSTART:20220327T010000
END:DAYLIGHT
BEGIN:STANDARD
TZOFFSETFROM:+0200
TZOFFSETTO:+0100
TZNAME:CET
DTSTART:20221030T010000
END:STANDARD
END:VTIMEZONE
BEGIN:VEVENT
DTSTART;TZID=Europe/Madrid:20221006T173000
DTEND;TZID=Europe/Madrid:20221006T233000
DTSTAMP:20260424T212808
CREATED:20211124T122713Z
LAST-MODIFIED:20211124T122713Z
UID:7195-1665077400-1665099000@extrememusicevents.com
SUMMARY:Amon Amarth
DESCRIPTION:Llega a nuestro país una de las giras más espectaculares de todo 2022. Vikings & Lionhearts Tour 2022 nos traerá a dos de los grandes pilares que sostienen toda la escena del Metal a nivel global\, Machine Head y Amon Amarth\, en una colisión que promete hacer saltar por los aires el Sant Jordi Club de Barcelona y el Palacio de Vistalegre de Madrid. \nEl sonido de Machine Head\, banda fundacional del groove metal\, cayó como una bomba atómica sobre los años noventa elevando el género a cotas de popularidad nunca vistas. Robb Flynn nos dice: “¡Con inmenso placer anunciamos nuestro regreso triunfal a vuestra tierra para machacar cráneos y acabar con toda vuestra cerveza! Pero esta vez no estaremos solos y uniremos fuerzas con nuestros curtidos hermanos los omnipotentes Amon Amarth y sus compatriotas The Halo Effect. Esta monstruosa gira comenzará en otoño de 2022 y será la noche más devastadora de vuestras vidas. ¡Nadie va a resistirse a esta épica alianza! ¡Vamos a por tí!” \n¿Qué decir de nuestros amigos Amon Amarth? Todavía con la piel de oso puesta desde que Madness Live! trajera a España el Berserker World Tour en 2019\, Amon Amarth declaran: “¡Vikingos\, estamos llamados a atacar de nuevo! Dijeron que no se podría hacer pero hemos tomado medidas épicas ante estos tiempos convulsos\, y Amon Amarth estarán uniendo fuerzas con nuestros viejos amigos de corazón de león\, los todopoderosos Machine Head\, para labrar un surco de destrucción en Europa el próximo otoño. Vuestras almas paganas presenciarán la producción completa de ambas bandas en lo que promete ser la gira de metal más monumental de todo 2022. Junto a nosotros estarán The Halo Effect\, la perfecta encarnación del sonido de Gotemburgo. Ahora toca remar hacia la victoria. ¡Mantente a salvo\, fuerte\, y levanta tus cuernos!” \n  \nENTRADAS: \nhttps://ticketmadness.es/es/
URL:https://extrememusicevents.com/previa/amon-amarth/
LOCATION:SANT JORDI CLUB\, Passeig Olímpic\, 5-7\, BARCELONA\, BARCELONA\, 08038\, España
ATTACH;FMTTYPE=image/jpeg:https://extrememusicevents.com/wp-content/uploads/2021/11/2022-10-06-amon-amarth.jpg
END:VEVENT
END:VCALENDAR