BEGIN:VCALENDAR
VERSION:2.0
PRODID:-//EXTREME MUSIC EVENTS - ECPv5.16.4//NONSGML v1.0//EN
CALSCALE:GREGORIAN
METHOD:PUBLISH
X-WR-CALNAME:EXTREME MUSIC EVENTS
X-ORIGINAL-URL:https://extrememusicevents.com
X-WR-CALDESC:Eventos para EXTREME MUSIC EVENTS
BEGIN:VTIMEZONE
TZID:Europe/Madrid
BEGIN:DAYLIGHT
TZOFFSETFROM:+0100
TZOFFSETTO:+0200
TZNAME:CEST
DTSTART:20240331T010000
END:DAYLIGHT
BEGIN:STANDARD
TZOFFSETFROM:+0200
TZOFFSETTO:+0100
TZNAME:CET
DTSTART:20241027T010000
END:STANDARD
END:VTIMEZONE
BEGIN:VEVENT
DTSTART;TZID=Europe/Madrid:20240514T203000
DTEND;TZID=Europe/Madrid:20240514T233000
DTSTAMP:20260422T071658
CREATED:20240327T184527Z
LAST-MODIFIED:20240327T184527Z
UID:9189-1715718600-1715729400@extrememusicevents.com
SUMMARY:Angus & Julia Stone
DESCRIPTION:Los hermanos Angus & Julia Stone vuelven a España para dar tres conciertos muy especiales dentro de su gira ‘Living Room Sessions’. Serán el 14 de mayo en el Palau de la Música de Barcelona\, como parte del festival Guitar Bcn; el 15 de mayo en Kursaal de San Sebastián\, y el 17 de mayo en el Palacio Municipal de IFEMA MADRID. \nLas entradas para Barcelona se pueden comprar a través de guitarbcn.com\, para San Sebastián a través de kursaal.eus y las de Madrid en doctormusic.com (*) y entradas.com. \nEn esta nueva gira\, los australianos presentarán su nuevo trabajo Cape Forestier\, una colección de canciones con sentimiento que comparten el sonido de su extraordinario viaje juntos. “Hacer música siempre ha sido bastante sencillo para nosotros… Es simple\, es algo que tenemos que hacer”. \nJuntos como músicos\, productores y compositores\, Angus & Julia Stone forman las dos mitades de un acto musical cuyas palabras y música revelan un amor puro y genuino por la música y un talento para contar bellas historias. Historias que les han llevado por todo el mundo y de vuelta. \nEste álbum\, Cape Forestier\, es como un libro de cuentos de los corazones y las mentes de Angus y Julia\, con reminiscencias de sus primeros discos\, en el que cada canción se revela como una página diferente. Las canciones van desde historias de amor como ‘By My Side’ o ‘Somehow’\, una ardiente historia de un amor no correspondido\, hasta canciones como ‘Down to The Sea’\, que muestran una visión única de la sociedad y de lo que ocurre a nuestro alrededor. En conjunto\, las canciones de Cape Forestier son grabaciones sorprendentemente conmovedoras y con carácter que atraen inmediatamente a los oyentes hacia la visión sencilla y entrañable del mundo de Angus & Julia Stone. \n  \nENTRADAS: \nwww.doctormusic.com/calendario
URL:https://extrememusicevents.com/previa/angus-julia-stone/
LOCATION:PALAU DE LA MUSICA\, Palau de la Música\, 4-6\, Barcelona\, Barcelona\, 08003\, España
ATTACH;FMTTYPE=image/jpeg:https://extrememusicevents.com/wp-content/uploads/2024/03/2024-05-14-Angus-Julia-Stone.jpg
END:VEVENT
END:VCALENDAR