BEGIN:VCALENDAR
VERSION:2.0
PRODID:-//EXTREME MUSIC EVENTS - ECPv5.16.4//NONSGML v1.0//EN
CALSCALE:GREGORIAN
METHOD:PUBLISH
X-WR-CALNAME:EXTREME MUSIC EVENTS
X-ORIGINAL-URL:https://extrememusicevents.com
X-WR-CALDESC:Eventos para EXTREME MUSIC EVENTS
BEGIN:VTIMEZONE
TZID:Europe/Madrid
BEGIN:DAYLIGHT
TZOFFSETFROM:+0100
TZOFFSETTO:+0200
TZNAME:CEST
DTSTART:20220327T010000
END:DAYLIGHT
BEGIN:STANDARD
TZOFFSETFROM:+0200
TZOFFSETTO:+0100
TZNAME:CET
DTSTART:20221030T010000
END:STANDARD
END:VTIMEZONE
BEGIN:VEVENT
DTSTART;TZID=Europe/Madrid:20221012T080000
DTEND;TZID=Europe/Madrid:20221012T170000
DTSTAMP:20260424T123428
CREATED:20221012T104335Z
LAST-MODIFIED:20221012T104335Z
UID:8153-1665561600-1665594000@extrememusicevents.com
SUMMARY:Anvil
DESCRIPTION:¡Por fin! Ya tenemos las nuevas fechas para la extensa gira de ANVIL en nuestro país. Serán el mes de noviembre de 2022. \n  \nENTRADAS: \nhttps://ticketmadness.es/es/
URL:https://extrememusicevents.com/previa/anvil-2/
LOCATION:BOVEDA\, Carrer de Roc Boronat\, 33\, BARCELONA\, BARCELONA\, 08005\, España
ATTACH;FMTTYPE=image/jpeg:https://extrememusicevents.com/wp-content/uploads/2022/10/2022-11-23-anvil.jpg
END:VEVENT
END:VCALENDAR