BEGIN:VCALENDAR
VERSION:2.0
PRODID:-//EXTREME MUSIC EVENTS - ECPv5.16.4//NONSGML v1.0//EN
CALSCALE:GREGORIAN
METHOD:PUBLISH
X-WR-CALNAME:EXTREME MUSIC EVENTS
X-ORIGINAL-URL:https://extrememusicevents.com
X-WR-CALDESC:Eventos para EXTREME MUSIC EVENTS
BEGIN:VTIMEZONE
TZID:Europe/Madrid
BEGIN:DAYLIGHT
TZOFFSETFROM:+0100
TZOFFSETTO:+0200
TZNAME:CEST
DTSTART:20220327T010000
END:DAYLIGHT
BEGIN:STANDARD
TZOFFSETFROM:+0200
TZOFFSETTO:+0100
TZNAME:CET
DTSTART:20221030T010000
END:STANDARD
END:VTIMEZONE
BEGIN:VEVENT
DTSTART;TZID=Europe/Madrid:20221009T180000
DTEND;TZID=Europe/Madrid:20221009T233000
DTSTAMP:20260424T160215
CREATED:20210203T115503Z
LAST-MODIFIED:20210911T192129Z
UID:5788-1665338400-1665358200@extrememusicevents.com
SUMMARY:ARCH ENEMY
DESCRIPTION: LA GIRA DEFINITIVA DE METAL EXTREMO DE ROUTE RESURRECTION TRAERÁ A ARCH ENEMY Y BEHEMOTH COMO CABEZAS DE CARTEL Y LOS LEGENDARIOS CARCASS COMO INVITADOS ESPECIALES  \nSerán dos fechas de fin de semana a finales de 2021 en las que podremos disfrutar de este mini-festival de metal extremo con grandes producciones y espectáculos en los mayores recintos de España \nACTUALIZACIÓN:\n LA GIRA DEFINITIVA DE METAL EXTREMO\, ARCH ENEMY\, BEHEMOTH Y CARCASS\, SE MUEVE AL 2022  \nEl salto a los grandes pabellones de toda Europa de Arch Enemy y Behemoth tendrá que esperar al año que viene. Será en el mismo fin de semana que este año pero en 2022\, y os recordamos que vendrán con la mayor producción que jamás han tenido junto a los legendarios Carcass y Unto Others. Será un mini-festival de metal extremo que no os podéis perder y tenemos muchísimas ganas de vivirlo junto a vosotr@s. \nEstas son las fechas que debéis anotar: \nSábado 8 de octubre\, Madrid\, Palacio Vistalegre\nDomingo 9 de octubre\, Barcelona\, Sant Jordi Club \n  \nENTRADAS: \nwww.resurrectionfest.es/route/
URL:https://extrememusicevents.com/previa/arch-enemy/
LOCATION:SANT JORDI CLUB\, Passeig Olímpic\, 5-7\, BARCELONA\, BARCELONA\, 08038\, España
ATTACH;FMTTYPE=image/jpeg:https://extrememusicevents.com/wp-content/uploads/2021/02/2022-10-09-Arch-Enemy.jpg
END:VEVENT
END:VCALENDAR