BEGIN:VCALENDAR
VERSION:2.0
PRODID:-//EXTREME MUSIC EVENTS - ECPv5.16.4//NONSGML v1.0//EN
CALSCALE:GREGORIAN
METHOD:PUBLISH
X-WR-CALNAME:EXTREME MUSIC EVENTS
X-ORIGINAL-URL:https://extrememusicevents.com
X-WR-CALDESC:Eventos para EXTREME MUSIC EVENTS
BEGIN:VTIMEZONE
TZID:Europe/Madrid
BEGIN:DAYLIGHT
TZOFFSETFROM:+0100
TZOFFSETTO:+0200
TZNAME:CEST
DTSTART:20240331T010000
END:DAYLIGHT
BEGIN:STANDARD
TZOFFSETFROM:+0200
TZOFFSETTO:+0100
TZNAME:CET
DTSTART:20241027T010000
END:STANDARD
END:VTIMEZONE
BEGIN:VEVENT
DTSTART;TZID=Europe/Madrid:20240905T210000
DTEND;TZID=Europe/Madrid:20240905T233000
DTSTAMP:20260424T212842
CREATED:20240728T184121Z
LAST-MODIFIED:20240728T184135Z
UID:9520-1725570000-1725579000@extrememusicevents.com
SUMMARY:Aventura
DESCRIPTION:Aventura\, con raíces dominicanas y sede en Nueva York\, ha dejado una marca perdurable en la música latina desde su formación en 1994. Liderado por Anthony «Romeo» Santos\, con el distintivo carisma y voz que lo convirtieron en el rostro del grupo\, junto a Henry Santos Jeter y Lenny Santos\, cuyos estilos únicos enriquecieron el sonido de Aventura con fusiones musicales cautivadoras. Max Santos completó la formación\, aportando su habilidad como bajista y vocalista. Su ascenso meteórico se marcó con álbumes como «We Broke the Rules» (2002) y «God’s Project» (2005)\, consolidando su estatus como referentes de la bachata contemporánea. \nTras un receso en 2011\, los miembros de Aventura exploraron proyectos individuales\, con Romeo Santos destacándose como solista\, mientras Henry\, Lenny y Max también incursionaron en la música por separado. Sin embargo\, el legado de Aventura como uno de los grupos más influyentes en la historia de la bachata moderna sigue resonando en la escena musical internacional. \n  \nENTRADAS EN: \nwww.sfx-events.com
URL:https://extrememusicevents.com/previa/aventura/
LOCATION:PALAU SANT JORDI\, Passeig Olímpic\, 5-7\, BARCELONA\, BARCELONA\, 08038\, España
ATTACH;FMTTYPE=image/jpeg:https://extrememusicevents.com/wp-content/uploads/2024/07/2024-Aventura.jpg
END:VEVENT
END:VCALENDAR