BEGIN:VCALENDAR
VERSION:2.0
PRODID:-//EXTREME MUSIC EVENTS - ECPv5.16.4//NONSGML v1.0//EN
CALSCALE:GREGORIAN
METHOD:PUBLISH
X-WR-CALNAME:EXTREME MUSIC EVENTS
X-ORIGINAL-URL:https://extrememusicevents.com
X-WR-CALDESC:Eventos para EXTREME MUSIC EVENTS
BEGIN:VTIMEZONE
TZID:Europe/Madrid
BEGIN:DAYLIGHT
TZOFFSETFROM:+0100
TZOFFSETTO:+0200
TZNAME:CEST
DTSTART:20240331T010000
END:DAYLIGHT
BEGIN:STANDARD
TZOFFSETFROM:+0200
TZOFFSETTO:+0100
TZNAME:CET
DTSTART:20241027T010000
END:STANDARD
END:VTIMEZONE
BEGIN:VEVENT
DTSTART;TZID=Europe/Madrid:20240704T210000
DTEND;TZID=Europe/Madrid:20240704T233000
DTSTAMP:20260420T232529
CREATED:20240510T185453Z
LAST-MODIFIED:20240510T185453Z
UID:9296-1720126800-1720135800@extrememusicevents.com
SUMMARY:Barcelona Rock Fest
DESCRIPTION:Barcelona Rock Fest quiere agradecer a su público la confianza depositada en el festival y por ello este año ha convertido la tradicional recogida de pulseras de abonos y entradas de día del festival en toda una fiesta. Esta contará con algunas novedades que os destacamos:\n\n\nLa recogida tendrá lugar el jueves\, 4 de julio en las taquillas del Parc de Can Zam (Santa Coloma de Gramenet\, Barcelona) a partir de las 16 h y hasta las 22 h. Así que todo aquel que quiera entrar directamente al festival el viernes\, 5 y ahorrarse las inevitables colas de ese día\, está invitado a acudir el jueves a recoger sus pulseras. De este modo\, queremos asegurarnos de que nadie pueda perderse ni un solo instante de los tres días de auténtica devoción por el rock que nos piensa ofrecer el festival\,\n\n\nPero no es esta la única buena noticia que hoy os comunicamos. Porque\, si os comentábamos que la recogida de pulseras de este año sería toda una celebración es porque lo va a ser. Así\, todos los que vengáis ese día a Can Zam podréis disfrutar de la actuación de El Drogas a las 21 h. Como todos sabéis\, el artista de Pamplona está considerado indiscutiblemente uno de los iconos del rock nacional\, tanto con sus discos en solitario como al frente de Barricada. Además\, finalizaremos la noche con la actuación de Metallijam (de 23 a 24 h.). Os esperamos el jueves en la recogida de pulseras y con este concierto único que marcará el inicio oficial del Barcelona Rock Fest de este año.\n\n\nENTRADAS: \nwww.barcelonarockfest.com/
URL:https://extrememusicevents.com/previa/barcelona-rock-fest-2/
LOCATION:PARC DE CAN ZAM\, Santa Coloma de Gramenet\, Barcelona\, España
ATTACH;FMTTYPE=image/jpeg:https://extrememusicevents.com/wp-content/uploads/2024/05/2024-07-05-Rock-Fest-0.jpg
END:VEVENT
END:VCALENDAR