BEGIN:VCALENDAR
VERSION:2.0
PRODID:-//EXTREME MUSIC EVENTS - ECPv5.16.4//NONSGML v1.0//EN
CALSCALE:GREGORIAN
METHOD:PUBLISH
X-WR-CALNAME:EXTREME MUSIC EVENTS
X-ORIGINAL-URL:https://extrememusicevents.com
X-WR-CALDESC:Eventos para EXTREME MUSIC EVENTS
BEGIN:VTIMEZONE
TZID:Europe/Madrid
BEGIN:DAYLIGHT
TZOFFSETFROM:+0100
TZOFFSETTO:+0200
TZNAME:CEST
DTSTART:20220327T010000
END:DAYLIGHT
BEGIN:STANDARD
TZOFFSETFROM:+0200
TZOFFSETTO:+0100
TZNAME:CET
DTSTART:20221030T010000
END:STANDARD
END:VTIMEZONE
BEGIN:VEVENT
DTSTART;TZID=Europe/Madrid:20220513T200000
DTEND;TZID=Europe/Madrid:20220513T233000
DTSTAMP:20260426T034128
CREATED:20210911T194625Z
LAST-MODIFIED:20210911T194625Z
UID:6735-1652472000-1652484600@extrememusicevents.com
SUMMARY:Clan de Xymox
DESCRIPTION:Clan de Xymox es una banda legendaria. Con casi 40 años de historia\, y dando sus primeros pasos en la mítica discográfica 4AD\, han conquistado a público de diferentes escenas musicales. El secreto de su éxito fue\, desde el primer momento\, un sonido único. La prensa de la época inventó el término Dark Wave para calificar su música. Tras 3 años de silencio discográfico\, la banda liderada con Ronny Moorings vuelve a la carga con “Ella” (14 de febrero). El single sirve de adelanto a lo que será su nuevo\, y esperado\, álbum titulado “Spider on the Wall” (julio 2020). Como no podría ser de otra manera\, nos visitarán el próximo otoño con tres conciertos. En Barcelona y Madrid lo harán acompañados por los italianos Ash Code. Una de las bandas recientes que más está dando que hablar durante estos últimos años. MARTA Hammond (ex Sex Museum) hará lo propio en Valencia\, la ciudad que completa la gira. \n  \nENTRADAS: \nwww.facebook.com/SturmPromotions
URL:https://extrememusicevents.com/previa/clan-de-xymox/
LOCATION:WOLF\, Carrer dels Almogàvers\, 88\, Barcelona\, BARCELONA\, 08018\, España
ATTACH;FMTTYPE=image/jpeg:https://extrememusicevents.com/wp-content/uploads/2021/09/2022-05-13-Clan-of-Xymox.jpg
ORGANIZER;CN="STURM%20PROMOTIONS":MAILTO:info@sturmpromotions.com
END:VEVENT
END:VCALENDAR