BEGIN:VCALENDAR
VERSION:2.0
PRODID:-//EXTREME MUSIC EVENTS - ECPv5.16.4//NONSGML v1.0//EN
CALSCALE:GREGORIAN
METHOD:PUBLISH
X-WR-CALNAME:EXTREME MUSIC EVENTS
X-ORIGINAL-URL:https://extrememusicevents.com
X-WR-CALDESC:Eventos para EXTREME MUSIC EVENTS
BEGIN:VTIMEZONE
TZID:Europe/Madrid
BEGIN:DAYLIGHT
TZOFFSETFROM:+0100
TZOFFSETTO:+0200
TZNAME:CEST
DTSTART:20220327T010000
END:DAYLIGHT
BEGIN:STANDARD
TZOFFSETFROM:+0200
TZOFFSETTO:+0100
TZNAME:CET
DTSTART:20221030T010000
END:STANDARD
END:VTIMEZONE
BEGIN:VEVENT
DTSTART;TZID=Europe/Madrid:20221021T200000
DTEND;TZID=Europe/Madrid:20221021T233000
DTSTAMP:20260423T180210
CREATED:20221012T092433Z
LAST-MODIFIED:20221012T092533Z
UID:8126-1666382400-1666395000@extrememusicevents.com
SUMMARY:Cradle Of Filth
DESCRIPTION:El reinado de los británicos Cradle Of Filth es incontestable. Un reinado que dura ya casi 3 décadas. Muy lejos queda ya el oscuro alegato “Dusk… and Her Embrace” (1996) o el mítico “Cruelty And The Beast” (1998)\, una joya atemporal con la que llegó el éxito planetario para la formación y con la que muchos de nosotros dábamos con asombro los primeros pasos en el mundo del metal extremo. \nCasi 25 años después de todo aquello y encadenando la calidad de sus últimos trabajos\, Cradle Of Filth nos presentan “Existence Is Futile” (2021)\, un álbum que se eleva a la quintaesencia de la formación británica gracias a esa particular mezcla de black metal sinfónico que se desliza sin complejos hacia el death\, el thrash o el heavy. La macabra orgía del inframundo encuentra aquí su máxima expresión. \nComo consortes a esta oscura celebración llamada Dark Horses and Forces tendremos a los franceses Alcest\, a los que siempre es una delicia escuchar y con los que siempre es un verdadero placer trabajar. \nEl próximo otoño promete ser testigo del viejo esplendor que la música en directo vivía antes de la pandemia así que anota en tu calendario lo que nos depara el mes de octubre: el viernes 21 de octubre en Barcelona\, el sábado 22 en Madrid y el 23 en Pamplona\, oscuras fuerzas toman nuestro país. \n  \nENTRADAS: \nhttps://ticketmadness.es/es/
URL:https://extrememusicevents.com/previa/cradle-of-filth/
LOCATION:RAZZMATAZZ 2\, Pamplona 88\, BARCELONA\, BARCELONA\, 08018\, España
ATTACH;FMTTYPE=image/jpeg:https://extrememusicevents.com/wp-content/uploads/2022/10/2022-10-21-Cradle-Of-Filth.jpg
END:VEVENT
END:VCALENDAR