BEGIN:VCALENDAR
VERSION:2.0
PRODID:-//EXTREME MUSIC EVENTS - ECPv5.16.4//NONSGML v1.0//EN
CALSCALE:GREGORIAN
METHOD:PUBLISH
X-WR-CALNAME:EXTREME MUSIC EVENTS
X-ORIGINAL-URL:https://extrememusicevents.com
X-WR-CALDESC:Eventos para EXTREME MUSIC EVENTS
BEGIN:VTIMEZONE
TZID:Europe/Madrid
BEGIN:DAYLIGHT
TZOFFSETFROM:+0100
TZOFFSETTO:+0200
TZNAME:CEST
DTSTART:20240331T010000
END:DAYLIGHT
BEGIN:STANDARD
TZOFFSETFROM:+0200
TZOFFSETTO:+0100
TZNAME:CET
DTSTART:20241027T010000
END:STANDARD
END:VTIMEZONE
BEGIN:VEVENT
DTSTART;TZID=Europe/Madrid:20240522T210000
DTEND;TZID=Europe/Madrid:20240522T233000
DTSTAMP:20260422T003424
CREATED:20240512T124814Z
LAST-MODIFIED:20240522T163312Z
UID:9328-1716411600-1716420600@extrememusicevents.com
SUMMARY:DEAP VALLY
DESCRIPTION:Lindsey Troy y Julie Edwards\, las Deap Vally\, lanzaron este pasado 1 de febrero\, en su propio sello Deap Vally Records\, el que será su álbum de despedida\, Sixtrionix 2.0: una nueva edición regrabada\, muy especial\, de su legendario álbum de debut\, publicado en 2013.  Se trata de un álbum doble que incluye demos\, covers inéditos\, regrabaciones de caras B limitades y rarezas\, que presentaran en una gira por UK y Europa durante estos próximos meses. El próximo mes de mayo de 2024 estarán en Razzmatazz tocando en directo este memorable disco\, del que Lindsey dice que es “simplemente el clásico Deap Vally\, tan puro y crudo. Realmente resume una era (…)\, la descarga de endorfinas de esa primera ola de éxito\, de noches salvajes y de borrachera juvenil\, de las aventuras mundanas y de la novedad de todo eso”. \nLas de Los Ángeles forman uno de esos sonados duos que con tan solo bateria\, guitarra y voces\, arman un concierto de Rock en mayúsculas y ponen a todo el personal a botar y a bailar. Ellas son lo más bestia que le ha sucedido al rock\, en lo que a dúos se refiere\, desde que aparecieran The White Stripes o The Kills. \nSu primer lanzamiento fue el feroz single de 2012 Gonna Make My Own Money\, en el pequeño sello independiente Ark Recordings. Le siguieron tres álbumes de poderoso rock\, idiosincrásico y minimalista al máximo: Sistrionix (2013)\, Femejism (2016)\, producido por Nick Zinner\, y Marriage (2021)\, que seguían sus propias reglas. A lo que hay que sumar sus colaboraciones con artistas como Peaches\, KT Tunstall\, Jamie Hince y Soko\, e incluso un álbum completo conjunto grabado con Flaming Lips. Y todo esto mientras compartían escenario en numerosas giras\, espectáculos y festivales con Blondie\, Garbage\, Red Hot Chili Peppers o Queens of the Stone Age\, entre otros \n  \nENTRADAS: \nwww.salarazzmatazz.com/22-05-2024/deap-vally
URL:https://extrememusicevents.com/previa/deap-vally-2/
LOCATION:RAZZMATAZZ 2\, Pamplona 88\, BARCELONA\, BARCELONA\, 08018\, España
ATTACH;FMTTYPE=image/jpeg:https://extrememusicevents.com/wp-content/uploads/2024/05/2024-05-22-Deap-Vally.jpg
END:VEVENT
END:VCALENDAR