BEGIN:VCALENDAR
VERSION:2.0
PRODID:-//EXTREME MUSIC EVENTS - ECPv5.16.4//NONSGML v1.0//EN
CALSCALE:GREGORIAN
METHOD:PUBLISH
X-WR-CALNAME:EXTREME MUSIC EVENTS
X-ORIGINAL-URL:https://extrememusicevents.com
X-WR-CALDESC:Eventos para EXTREME MUSIC EVENTS
BEGIN:VTIMEZONE
TZID:Europe/Madrid
BEGIN:DAYLIGHT
TZOFFSETFROM:+0100
TZOFFSETTO:+0200
TZNAME:CEST
DTSTART:20220327T010000
END:DAYLIGHT
BEGIN:STANDARD
TZOFFSETFROM:+0200
TZOFFSETTO:+0100
TZNAME:CET
DTSTART:20221030T010000
END:STANDARD
END:VTIMEZONE
BEGIN:VEVENT
DTSTART;TZID=Europe/Madrid:20220514T210000
DTEND;TZID=Europe/Madrid:20220514T233000
DTSTAMP:20260425T203923
CREATED:20210911T180102Z
LAST-MODIFIED:20210911T180102Z
UID:6711-1652562000-1652571000@extrememusicevents.com
SUMMARY:Die Krupps
DESCRIPTION:ENTRADAS: \nwww.eclipsegroup.es/agenda/
URL:https://extrememusicevents.com/previa/die-krupps/
LOCATION:SALAMANDRA\, Av. Carrilet\, 235\, HOSPITALET DEL LLOBREGAT\, BARCELONA\, 08907\, España
ATTACH;FMTTYPE=image/jpeg:https://extrememusicevents.com/wp-content/uploads/2021/09/2022-05-14-Die-Krupps.jpg
END:VEVENT
END:VCALENDAR