BEGIN:VCALENDAR
VERSION:2.0
PRODID:-//EXTREME MUSIC EVENTS - ECPv5.16.4//NONSGML v1.0//EN
CALSCALE:GREGORIAN
METHOD:PUBLISH
X-WR-CALNAME:EXTREME MUSIC EVENTS
X-ORIGINAL-URL:https://extrememusicevents.com
X-WR-CALDESC:Eventos para EXTREME MUSIC EVENTS
BEGIN:VTIMEZONE
TZID:Europe/Madrid
BEGIN:DAYLIGHT
TZOFFSETFROM:+0100
TZOFFSETTO:+0200
TZNAME:CEST
DTSTART:20220327T010000
END:DAYLIGHT
BEGIN:STANDARD
TZOFFSETFROM:+0200
TZOFFSETTO:+0100
TZNAME:CET
DTSTART:20221030T010000
END:STANDARD
END:VTIMEZONE
BEGIN:VEVENT
DTSTART;TZID=Europe/Madrid:20221117T173000
DTEND;TZID=Europe/Madrid:20221117T233000
DTSTAMP:20260422T192856
CREATED:20221114T194528Z
LAST-MODIFIED:20221114T194528Z
UID:8216-1668706200-1668727800@extrememusicevents.com
SUMMARY:ELUVEITIE + AMORPHIS
DESCRIPTION:Nos alegra poder anunciar oficialmente esta pedazo de gira para los amantes del folk metal y del death metal melódico. Tras el exitazo de sus anteriores visitas a España en solitario\, han decidido aunar esfuerzos con un pack de bandas genial que nos deleitarán con una buena sesión metalera a finales de año. Los suizos Eluveitie y los finlandeses Amorphis se embarcarán en dos conciertos en las grandes capitales y vendrán muy bien acompañados: por un lado por los suecos Dark Tranquillity y por otro lado los alemanes Nailed To Obscurity. Éstas son las fechas: \n16 de noviembre\, Madrid\, La Riviera\n17 de noviembre\, Barcelona\, Razzmatazz 1 \nLas entradas ya están a la venta . No te puedes perder esta gira\, ¡nos lo pasaremos en grande! ¡Nos vemos allí! \nHorarios: \n* Madrid:\n17:50 Puertas\n18:10 Nailed to Obscurity\n18:55 Dark Tranquillity\n20:10 Amorphis\n21:50 Eluveitie \n* Barcelona:\n17:20 Puertas\n17:40 Nailed to Obscurity\n18:25 Dark Tranquillity\n19:40 Amorphis\n21:20 Eluveitie \n  \nENTRADAS: \nwww.resurrectionfest.es/route/eluveitie-amorphis-tour-2022/
URL:https://extrememusicevents.com/previa/eluveitie-amorphis/
LOCATION:RAZZMATAZZ 1\, Carrer dels Almogàvers\, 122\, BARCELONA\, BARCELONA\, 08018\, España
ATTACH;FMTTYPE=image/jpeg:https://extrememusicevents.com/wp-content/uploads/2022/11/2022-11-17-Eluveitie-Amorphis.jpg
END:VEVENT
END:VCALENDAR