BEGIN:VCALENDAR
VERSION:2.0
PRODID:-//EXTREME MUSIC EVENTS - ECPv5.16.4//NONSGML v1.0//EN
CALSCALE:GREGORIAN
METHOD:PUBLISH
X-WR-CALNAME:EXTREME MUSIC EVENTS
X-ORIGINAL-URL:https://extrememusicevents.com
X-WR-CALDESC:Eventos para EXTREME MUSIC EVENTS
BEGIN:VTIMEZONE
TZID:Europe/Madrid
BEGIN:DAYLIGHT
TZOFFSETFROM:+0100
TZOFFSETTO:+0200
TZNAME:CEST
DTSTART:20240331T010000
END:DAYLIGHT
BEGIN:STANDARD
TZOFFSETFROM:+0200
TZOFFSETTO:+0100
TZNAME:CET
DTSTART:20241027T010000
END:STANDARD
END:VTIMEZONE
BEGIN:VEVENT
DTSTART;TZID=Europe/Madrid:20240414T203000
DTEND;TZID=Europe/Madrid:20240414T233000
DTSTAMP:20260422T190530
CREATED:20240327T183608Z
LAST-MODIFIED:20240327T183636Z
UID:9183-1713126600-1713137400@extrememusicevents.com
SUMMARY:Fast Animals and Slow Kids
DESCRIPTION:El grupo italiano Fast Animals and Slow Kids actuará el 14 de abril en la sala Wolf de Barcelona y\, al día siguiente\, el 15 de abril\, en la sala Nazca de Madrid\, como parte del European Tour performing and celebrating 10 of Hybris and Alaska. \nLas entradas están a la venta a través de doctormusic.com (*) y entradas.com. El precio es de 20 Euros (IVA incluido\, gastos de distribución no incluidos). Las entradas ya adquiridas seguirán siendo válidas. \nFast Animals and Slow Kids (FASK)\, nombre inspirado en un gag de Padre de Familia\, lo formaron en 2008 Aimone Romizi (cantante\, guitarrista y percusionista)\, Alessio Mingoli (batería)\, Jacopo Gigliotti (bajista) y Alessandro Guercini (guitarrista). \nGracias a la victoria en el concurso Italy Wave Love Sound y a sus primeros conciertos\, su nombre empezó a darse a conocer y en 2011 publicaron su primer álbum Cavalli\, compuesto por temas post-punk con letras viles y ritmos incisivos. Tras esta primera publicación\, FASK siguieron trabajando en su música y de ahí nació Hybris\, álbum en el que se encuentra la canción ‘A cosa ci serve’\, votada como la canción del año por los lectores y redactores de la web Rockit. Además\, el disco fue número uno en las preferencias de los lectores de La Repubblica XL. \nFast Animals and Slow Kids no han dejado de componer desde entonces\, surgiendo así los álbumes Alaska\, Forse non è la felicità\, disco que convirtió a FASK en uno de los nombres más importantes del underground italiano; Animali Notturni\, publicado por Warner Music Italia; y È già domani\, su trabajo más reciente\, que logró situarse en el número 5 del ranking oficial italiano y en el número 2 del ranking de vinilos. Fue justamente en la gira de este último álbum\, ‘È GIÀ DOMANI TOUR’\, cuando el cuarteto italiano agotó entradas en ciudades como Bolonia\, Florencia\, Roma o Milán. \nEn 2023 FASK aterrizaron por primera vez en los teatros italianos más importantes acompañados en el escenario por una orquesta en una nueva experiencia que dio lugar al álbum FASK Dal vivo – con orchestra. \n  \n\nENTRADAS: \nwww.doctormusic.com/calendario
URL:https://extrememusicevents.com/previa/fast-animals-and-slow-kids/
LOCATION:WOLF\, Carrer dels Almogàvers\, 88\, Barcelona\, BARCELONA\, 08018\, España
ATTACH;FMTTYPE=image/jpeg:https://extrememusicevents.com/wp-content/uploads/2024/03/421916209_780760017414451_4810103530079607080_n.jpg
END:VEVENT
END:VCALENDAR