BEGIN:VCALENDAR
VERSION:2.0
PRODID:-//EXTREME MUSIC EVENTS - ECPv5.16.4//NONSGML v1.0//EN
CALSCALE:GREGORIAN
METHOD:PUBLISH
X-WR-CALNAME:EXTREME MUSIC EVENTS
X-ORIGINAL-URL:https://extrememusicevents.com
X-WR-CALDESC:Eventos para EXTREME MUSIC EVENTS
BEGIN:VTIMEZONE
TZID:Europe/Madrid
BEGIN:DAYLIGHT
TZOFFSETFROM:+0100
TZOFFSETTO:+0200
TZNAME:CEST
DTSTART:20230326T010000
END:DAYLIGHT
BEGIN:STANDARD
TZOFFSETFROM:+0200
TZOFFSETTO:+0100
TZNAME:CET
DTSTART:20231029T010000
END:STANDARD
END:VTIMEZONE
BEGIN:VEVENT
DTSTART;TZID=Europe/Madrid:20231110T180000
DTEND;TZID=Europe/Madrid:20231110T233000
DTSTAMP:20260422T194200
CREATED:20230620T214950Z
LAST-MODIFIED:20230620T220707Z
UID:8533-1699639200-1699659000@extrememusicevents.com
SUMMARY:Fear Factory
DESCRIPTION:La legendaria banda de metal Fear Factory regresa a España este 2023. Serán dos conciertos los que el grupo dará en nuestro país como parte de la gira ‘DisrupTour’. El primero\, el viernes 10 de noviembre en la sala Razzmatazz 2 de Barcelona y\, el segundo\, el sábado 11 de noviembre en La Sala (WiZink Center) de Madrid. Además\, vendrán acompañados de Butcher Babies\, Ignea y Ghosts of Atlantis como artistas invitados. \nCon una carrera de más de 30 años\, Fear Factory se embarcan en esta gira de 44 conciertos por Europa con el nuevo vocalista Milo Silvestro y el batería Pete Weber (Havok). Su sonido\, una fusión de riffs entrecortados\, baterías industriales y toques electrónicos\, se ha convertido en su sello distintivo. Además\, sus discos tienen un alcance cinematográfico\, en los que crean paisajes sonoros que reflejan futuros post-apocalípticos distópicos que se encuentran en la literatura y en películas clásicas de ciencia ficción\, desde Ray Bradbury hasta Blade Runner. El 23 de junio\, la banda publicará Re-Industrialized\, una versión remasterizada de su octavo álbum de estudio\, The Industrialist. \nLas veteranas del metal Butcher Babies\, que llevan casi 15 años arrasando en los escenarios de todo el mundo\, nos ofrecerán un despiadado directo cargado de energía. Su presencia en el escenario es un espectáculo hipnótico. \nIgnea\, la banda ucraniana de prog y metal melódico\, aportará su mezcla única de riffs con arreglos cinemáticos y electrónicos. \nPor último\, completa el cartel la banda inglesa de metal sinfónico Ghosts of Atlantis. \n  \nENTRADAS: \nwww.doctormusic.com/calendario
URL:https://extrememusicevents.com/previa/fear-factory/
LOCATION:RAZZMATAZZ 2\, Pamplona 88\, BARCELONA\, BARCELONA\, 08018\, España
ATTACH;FMTTYPE=image/jpeg:https://extrememusicevents.com/wp-content/uploads/2023/06/2023-11-10-Fear-Factory.jpg
END:VEVENT
END:VCALENDAR