BEGIN:VCALENDAR
VERSION:2.0
PRODID:-//EXTREME MUSIC EVENTS - ECPv5.16.4//NONSGML v1.0//EN
CALSCALE:GREGORIAN
METHOD:PUBLISH
X-WR-CALNAME:EXTREME MUSIC EVENTS
X-ORIGINAL-URL:https://extrememusicevents.com
X-WR-CALDESC:Eventos para EXTREME MUSIC EVENTS
BEGIN:VTIMEZONE
TZID:Europe/Madrid
BEGIN:DAYLIGHT
TZOFFSETFROM:+0100
TZOFFSETTO:+0200
TZNAME:CEST
DTSTART:20220327T010000
END:DAYLIGHT
BEGIN:STANDARD
TZOFFSETFROM:+0200
TZOFFSETTO:+0100
TZNAME:CET
DTSTART:20221030T010000
END:STANDARD
END:VTIMEZONE
BEGIN:VEVENT
DTSTART;TZID=Europe/Madrid:20221009T183000
DTEND;TZID=Europe/Madrid:20221009T233000
DTSTAMP:20260424T142451
CREATED:20210802T220812Z
LAST-MODIFIED:20210802T220824Z
UID:6606-1665340200-1665358200@extrememusicevents.com
SUMMARY:Fleshgod Apocalypse
DESCRIPTION:¡Nuevas fechas para el VELENO ACROSS EUROPE TOUR con Ex Deo ya están disponibles! \nAnte la situación actual\, el tour se pospone oficialmente a octubre de 2022. \n  \nENTRADAS: \nhttps://ticketmadness.es/es/
URL:https://extrememusicevents.com/previa/fleshgod-apocalypse-2/
LOCATION:BOVEDA\, Carrer de Roc Boronat\, 33\, BARCELONA\, BARCELONA\, 08005\, España
ATTACH;FMTTYPE=image/jpeg:https://extrememusicevents.com/wp-content/uploads/2021/08/2022-10-09-fleshgod-apocalypse.jpg
END:VEVENT
END:VCALENDAR