BEGIN:VCALENDAR
VERSION:2.0
PRODID:-//EXTREME MUSIC EVENTS - ECPv5.16.4//NONSGML v1.0//EN
CALSCALE:GREGORIAN
METHOD:PUBLISH
X-WR-CALNAME:EXTREME MUSIC EVENTS
X-ORIGINAL-URL:https://extrememusicevents.com
X-WR-CALDESC:Eventos para EXTREME MUSIC EVENTS
BEGIN:VTIMEZONE
TZID:Europe/Madrid
BEGIN:DAYLIGHT
TZOFFSETFROM:+0100
TZOFFSETTO:+0200
TZNAME:CEST
DTSTART:20240331T010000
END:DAYLIGHT
BEGIN:STANDARD
TZOFFSETFROM:+0200
TZOFFSETTO:+0100
TZNAME:CET
DTSTART:20241027T010000
END:STANDARD
END:VTIMEZONE
BEGIN:VEVENT
DTSTART;TZID=Europe/Madrid:20240404T203000
DTEND;TZID=Europe/Madrid:20240404T233000
DTSTAMP:20260423T020333
CREATED:20240402T125459Z
LAST-MODIFIED:20240402T125459Z
UID:9203-1712262600-1712273400@extrememusicevents.com
SUMMARY:FLETCHER
DESCRIPTION:Fletcher\, que agotó las entradas en tan solo unos días\, cambia de fecha y recinto para sus primeros conciertos en España. Previamente programados para los días 7 de octubre en la sala La Riviera de Madrid y el 8 de octubre en la sala Razzmatazz de Barcelona los conciertos pasan a ser los días 3 de abril 2024 en el Palacio de Vistalegre de Madrid y el 4 de abril 2024 en el Sant Jordi Club de Barcelona. \nLas entradas adquiridas para los conciertos de octubre serán válidas en las nuevas fechas. Además\, hay disponibles nuevas entradas a la venta a partir de ahora mismo en livenation.es y ticketmaster.es. \nLa carrera musical de Fletcher empezó en 2019 con You Ruined New York City For Me\, su primer EP que incluye el éxito ‘Undrunk’\, una canción que se mantuvo varias semanas en el Billboard Hot 100.  \nUn año más tarde\, saldría a la luz su segundo EP\, THE S(EX) TAPES que alcanzó el primer puesto en iTunes y recibió los aplausos de Teen Vogue\, SPIN o GQ entre muchos más. En este trabajo destacó el single ‘Bitter’ que\, hoy en día\, ya supera las 139 millones de reproducciones en Spotify.  \nFletcher continuó su carrera triunfal con hits de la talla de ‘girls girls girls’\, una audaz reinvención del icónico ‘I Kissed a Girl’ de Katy Perry o ‘Cherry’ (que cuenta con la colaboración de Hayley Kiyoko). \nEn septiembre de 2022 llegaría Girl Of My Dreams\, su primer álbum que sedujo de inmediato a medios como Rolling Stone\, Billboard\, Nylon o Vulture. El disco incluye éxitos de la talla de ‘Becky’s So Hot’\, ‘Her Body Is Bible’\, ‘Sting’ o ‘Serial Heartbreaker’.  \nLa promoción de este disco le llevó a pisar el plató de The Tonight Show y los escenarios norteamericanos colgando el cartel de entradas agotadas. En octubre\, Madrid y Barcelona podrán ser testigos de las primeras actuaciones en nuestro país de una de las artistas más talentosas del pop actual. \n\nEntradas ya la venta: en www.livenation.es y Ticketmaster.es\n\nENTRADAS: \nwww.livenation.es/event/allevents
URL:https://extrememusicevents.com/previa/fletcher/
LOCATION:SANT JORDI CLUB\, Passeig Olímpic\, 5-7\, BARCELONA\, BARCELONA\, 08038\, España
ATTACH;FMTTYPE=image/jpeg:https://extrememusicevents.com/wp-content/uploads/2024/04/2024-04-04-Fletcher.jpg
END:VEVENT
END:VCALENDAR