BEGIN:VCALENDAR
VERSION:2.0
PRODID:-//EXTREME MUSIC EVENTS - ECPv5.16.4//NONSGML v1.0//EN
CALSCALE:GREGORIAN
METHOD:PUBLISH
X-WR-CALNAME:EXTREME MUSIC EVENTS
X-ORIGINAL-URL:https://extrememusicevents.com
X-WR-CALDESC:Eventos para EXTREME MUSIC EVENTS
BEGIN:VTIMEZONE
TZID:Europe/Madrid
BEGIN:DAYLIGHT
TZOFFSETFROM:+0100
TZOFFSETTO:+0200
TZNAME:CEST
DTSTART:20230326T010000
END:DAYLIGHT
BEGIN:STANDARD
TZOFFSETFROM:+0200
TZOFFSETTO:+0100
TZNAME:CET
DTSTART:20231029T010000
END:STANDARD
END:VTIMEZONE
BEGIN:VEVENT
DTSTART;TZID=Europe/Madrid:20231105T193000
DTEND;TZID=Europe/Madrid:20231105T233000
DTSTAMP:20260423T024549
CREATED:20230622T215727Z
LAST-MODIFIED:20230622T215727Z
UID:8591-1699212600-1699227000@extrememusicevents.com
SUMMARY:Galactic Empire
DESCRIPTION:¡El Imperio contraataca este otoño en la ciudad de Barcelona! El proyecto estadounidense Galactic Empire llega a nuestro país para dar una pátina del mejor metal a la obra de John Williams y toda la música que ha hecho grande a una de las sagas más célebres de toda la historia de la cultura popular: STAR WARS. \nSi alguna vez has sentido La Fuerza crecer en ti\, si te has perdido entre los bellos paisajes de Naboo o caminado bajo los abrasadores soles de Tatooine\, si te has rendido al irresistible carisma de Grogu y su insobornable benefactor\, The Mandalorian\, sin duda este es el camino. \nCon un nuevo álbum bajo el brazo\, “Special Edition” (2023)\, la flota de Galactic Empire desembarca en la sala Bóveda de Barcelona el próximo 5 de noviembre con la intención de conquistar la Ciudad Condal con un espectáculo para toda la familia en el que el cosplay es casi un deber. ¡Que la Fuerza te acompañe! \n  \nENTRADAS: \nwww.madnesslive.es/es/12-entradas
URL:https://extrememusicevents.com/previa/galactic-empire/
LOCATION:BOVEDA\, Carrer de Roc Boronat\, 33\, BARCELONA\, BARCELONA\, 08005\, España
ATTACH;FMTTYPE=image/jpeg:https://extrememusicevents.com/wp-content/uploads/2023/06/2023-11-05-Galactic-Empire.jpg
END:VEVENT
END:VCALENDAR