BEGIN:VCALENDAR
VERSION:2.0
PRODID:-//EXTREME MUSIC EVENTS - ECPv5.16.4//NONSGML v1.0//EN
CALSCALE:GREGORIAN
METHOD:PUBLISH
X-WR-CALNAME:EXTREME MUSIC EVENTS
X-ORIGINAL-URL:https://extrememusicevents.com
X-WR-CALDESC:Eventos para EXTREME MUSIC EVENTS
BEGIN:VTIMEZONE
TZID:Europe/Madrid
BEGIN:DAYLIGHT
TZOFFSETFROM:+0100
TZOFFSETTO:+0200
TZNAME:CEST
DTSTART:20240331T010000
END:DAYLIGHT
BEGIN:STANDARD
TZOFFSETFROM:+0200
TZOFFSETTO:+0100
TZNAME:CET
DTSTART:20241027T010000
END:STANDARD
END:VTIMEZONE
BEGIN:VEVENT
DTSTART;TZID=Europe/Madrid:20240630T213000
DTEND;TZID=Europe/Madrid:20240630T233000
DTSTAMP:20260420T180400
CREATED:20240618T162228Z
LAST-MODIFIED:20240618T162228Z
UID:9430-1719783000-1719790200@extrememusicevents.com
SUMMARY:Hozier
DESCRIPTION:Una voz instantáneamente reconocible y una habilidad para componer canciones conmovedoras consolidaron al trovador irlandés Hozier como un cantante y compositor multiplatino nominado al Grammy y galardonado. Impulsado por el provocador himno de platino cinco veces\, «Take Me To Church»\, su álbum debut homónimo debutó en el puesto #2 en el Billboard Top 200 y logró el estatus de triple platino por la RIAA. Disfrutó de nueve semanas en el número 1 en su Irlanda natal (incluso pasando un increíble total de 441 semanas en las listas de éxitos irlandesas). \n  \nENTRADAS: \nwww.ticketmaster.es/artist/alma-festival-entradas
URL:https://extrememusicevents.com/previa/hozier/
LOCATION:POBLE ESPANYOL\, Av. Francesc Ferrer i Guàrdia\, 13\, Barcelona\, Barcelona\, 08038
ATTACH;FMTTYPE=image/jpeg:https://extrememusicevents.com/wp-content/uploads/2024/06/HOZIER-BCN-Sold-out-1.jpg
END:VEVENT
END:VCALENDAR