BEGIN:VCALENDAR
VERSION:2.0
PRODID:-//EXTREME MUSIC EVENTS - ECPv5.16.4//NONSGML v1.0//EN
CALSCALE:GREGORIAN
METHOD:PUBLISH
X-WR-CALNAME:EXTREME MUSIC EVENTS
X-ORIGINAL-URL:https://extrememusicevents.com
X-WR-CALDESC:Eventos para EXTREME MUSIC EVENTS
BEGIN:VTIMEZONE
TZID:Europe/Madrid
BEGIN:DAYLIGHT
TZOFFSETFROM:+0100
TZOFFSETTO:+0200
TZNAME:CEST
DTSTART:20230326T010000
END:DAYLIGHT
BEGIN:STANDARD
TZOFFSETFROM:+0200
TZOFFSETTO:+0100
TZNAME:CET
DTSTART:20231029T010000
END:STANDARD
END:VTIMEZONE
BEGIN:VEVENT
DTSTART;TZID=Europe/Madrid:20231127T183000
DTEND;TZID=Europe/Madrid:20231127T233000
DTSTAMP:20260423T062250
CREATED:20230727T195816Z
LAST-MODIFIED:20230727T195834Z
UID:8787-1701109800-1701127800@extrememusicevents.com
SUMMARY:INSOMNIUM
DESCRIPTION:La banda finlandesa de death metal melódico ha escogido España para realizar 3 de sus conciertos en su última gira europea. Con motivo del lanzamiento de su último trabajo\, «Anno 1686»\, pisarán Madrid\, Barcelona y Bilbao en noviembre acompañados de In Mourning y Kvaen. ¿Estáis list@s? Éstas son las fechas \n27 de noviembre\, Barcelona\, Razzmatazz 2\n28 de noviembre\, Madrid\, Mon Live\n29 de noviembre\, Bilbao\, Santana 27 \n  \nENTRADAS: \nwww.resurrectionfest.es/route/insomnium-tour-2023/
URL:https://extrememusicevents.com/previa/insomnium-2/
LOCATION:RAZZMATAZZ 2\, Pamplona 88\, BARCELONA\, BARCELONA\, 08018\, España
ATTACH;FMTTYPE=image/jpeg:https://extrememusicevents.com/wp-content/uploads/2023/07/2023-11-27-Insomnium.jpg
END:VEVENT
END:VCALENDAR