BEGIN:VCALENDAR
VERSION:2.0
PRODID:-//EXTREME MUSIC EVENTS - ECPv5.16.4//NONSGML v1.0//EN
CALSCALE:GREGORIAN
METHOD:PUBLISH
X-WR-CALNAME:EXTREME MUSIC EVENTS
X-ORIGINAL-URL:https://extrememusicevents.com
X-WR-CALDESC:Eventos para EXTREME MUSIC EVENTS
BEGIN:VTIMEZONE
TZID:Europe/Madrid
BEGIN:DAYLIGHT
TZOFFSETFROM:+0100
TZOFFSETTO:+0200
TZNAME:CEST
DTSTART:20220327T010000
END:DAYLIGHT
BEGIN:STANDARD
TZOFFSETFROM:+0200
TZOFFSETTO:+0100
TZNAME:CET
DTSTART:20221030T010000
END:STANDARD
END:VTIMEZONE
BEGIN:VEVENT
DTSTART;TZID=Europe/Madrid:20221008T210000
DTEND;TZID=Europe/Madrid:20221008T233000
DTSTAMP:20260424T175428
CREATED:20211201T231430Z
LAST-MODIFIED:20220831T232954Z
UID:7302-1665262800-1665271800@extrememusicevents.com
SUMMARY:IZAL
DESCRIPTION:IZAL es uno de los pocos grupos que siempre juegan en casa. Vayan donde vayan se encuentran un público fiel\, que hace años que los quiere y que pueden considerar familia. Y\, cuando tocan para decenas de miles de personas\, consiguen sentirse en la intimidad\, como si tocaran al calor de una chimenea. \nSu nuevo álbum\, Hogar\, es como un álbum de fotografías de familia. Estas instantáneas no son visuales sino sonoras\, una recopilación de momentos vitales que vale la pena guardar y recordar para siempre. Porque hace más de diez años que los miembros de IZAL están viviendo el sueño de encontrarse en familia en todo el país: en capitales y en pueblos\, en festivales y conciertos\, en los lugares más obvios y en las citas más insospechadas. \nEn el Cruïlla\, IZAL nos son especialmente cercanos. Nos han acompañado en conciertos como el del Cruïlla Primavera 2019\, en acústicos de formato pandémico como el del Cruïlla XXS 2020 y en la vuelta a la apoteosis colectiva que supuso el Cruïlla 2021. Ahora\, ha llegado el momento de reencontrarnos con aquel familiar que vuelve de un largo viaje cargado de historias que nos alegran el día. \nTe invitamos a vivir la presentación de Hogar en el Cruïlla Tardor 2022. Será el próximo 8 de octubre de 2022 en el Palau Sant Jordi\, en un concierto donde recordaremos todo lo que hemos vivido juntos y celebraremos todo lo que nos queda por vivir. \n  \nENTRADAS: \nwww.concerts.cruillabarcelona.com/ca/
URL:https://extrememusicevents.com/previa/izal/
LOCATION:PALAU SANT JORDI\, Passeig Olímpic\, 5-7\, BARCELONA\, BARCELONA\, 08038\, España
ATTACH;FMTTYPE=image/jpeg:https://extrememusicevents.com/wp-content/uploads/2021/12/2022-10-08-IZAL.jpg
END:VEVENT
END:VCALENDAR