BEGIN:VCALENDAR
VERSION:2.0
PRODID:-//EXTREME MUSIC EVENTS - ECPv5.16.4//NONSGML v1.0//EN
CALSCALE:GREGORIAN
METHOD:PUBLISH
X-WR-CALNAME:EXTREME MUSIC EVENTS
X-ORIGINAL-URL:https://extrememusicevents.com
X-WR-CALDESC:Eventos para EXTREME MUSIC EVENTS
BEGIN:VTIMEZONE
TZID:Europe/Madrid
BEGIN:DAYLIGHT
TZOFFSETFROM:+0100
TZOFFSETTO:+0200
TZNAME:CEST
DTSTART:20220327T010000
END:DAYLIGHT
BEGIN:STANDARD
TZOFFSETFROM:+0200
TZOFFSETTO:+0100
TZNAME:CET
DTSTART:20221030T010000
END:STANDARD
END:VTIMEZONE
BEGIN:VEVENT
DTSTART;TZID=Europe/Madrid:20221102T200000
DTEND;TZID=Europe/Madrid:20221102T233000
DTSTAMP:20260423T123413
CREATED:20221026T220749Z
LAST-MODIFIED:20221026T220749Z
UID:8196-1667419200-1667431800@extrememusicevents.com
SUMMARY:James Bay
DESCRIPTION:James Bay\, artista de ventas multi-platino\, tres veces nominado al GRAMMY y galardonado con varios premios BRIT\, cantante\, compositor\, productor y guitarrista\, vuelve a España con su gira ‘The Leap Tour 2022’. \nLo veremos en Madrid y Barcelona\, como primeros shows de esta nueva gira europea. El 1 de noviembre en La Riviera y el 2 de noviembre en la sala Razzmatazz. La gira viene precedida por el lanzamiento de su nuevo álbum\, Leap\, que vio la luz el 8 de julio y que nos presentaba ‘One Life’. \nLas entradas para estos conciertos están disponibles a través de doctormusic.com (*) y entradas.com. El precio de las entradas es de 30 Euros (IVA incluido\, gastos de distribución no incluidos). \nHablar de James Bay es recordar temas que marcaron un antes y un después en su carrera. Hablamos de canciones que lo dieron a conocer para el gran público y que no pueden faltar en esta gira\, como ‘Hold Back The River’\, ‘Let It Go’ o ‘Us’. Y si le sumamos poder escuchar en directo por primera vez sus temas más nuevos\, este tour solo puede ser perfecto. \nEn su álbum Leap\, Bay ha trabajado con algunos de los productores y compositores más solicitados en sesiones presenciales y remotas entre Nashville y Londres\, incluyendo a Foy Vance (Ed Sheeran)\, Dave Cobb (Brandi Carlile\, Chris Stapleton)\, Ian Fitchuk (Kacey Musgraves\, Brett Eldredge)\, Joel Little (Lorde\, Taylor Swift) y Finneas (Billie Eilish\, The Knocks). El primer single\, ‘One Life’\, llega tras su éxito ‘Give Me The Reason’\, con 8 millones de streams globales en su lanzamiento. \n  \nENTRADAS: \nwww.doctormusic.com/concierto-2022-james-bay
URL:https://extrememusicevents.com/previa/james-bay/
LOCATION:RAZZMATAZZ 1\, Carrer dels Almogàvers\, 122\, BARCELONA\, BARCELONA\, 08018\, España
ATTACH;FMTTYPE=image/jpeg:https://extrememusicevents.com/wp-content/uploads/2022/10/2022-11-02-James-Bay.jpg
END:VEVENT
END:VCALENDAR