BEGIN:VCALENDAR
VERSION:2.0
PRODID:-//EXTREME MUSIC EVENTS - ECPv5.16.4//NONSGML v1.0//EN
CALSCALE:GREGORIAN
METHOD:PUBLISH
X-WR-CALNAME:EXTREME MUSIC EVENTS
X-ORIGINAL-URL:https://extrememusicevents.com
X-WR-CALDESC:Eventos para EXTREME MUSIC EVENTS
BEGIN:VTIMEZONE
TZID:Europe/Madrid
BEGIN:DAYLIGHT
TZOFFSETFROM:+0100
TZOFFSETTO:+0200
TZNAME:CEST
DTSTART:20240331T010000
END:DAYLIGHT
BEGIN:STANDARD
TZOFFSETFROM:+0200
TZOFFSETTO:+0100
TZNAME:CET
DTSTART:20241027T010000
END:STANDARD
END:VTIMEZONE
BEGIN:VEVENT
DTSTART;TZID=Europe/Madrid:20240515T210000
DTEND;TZID=Europe/Madrid:20240515T233000
DTSTAMP:20260422T070934
CREATED:20240514T055403Z
LAST-MODIFIED:20240514T055403Z
UID:9330-1715806800-1715815800@extrememusicevents.com
SUMMARY:JAMES
DESCRIPTION:La legendaria banda de rock alternativo de Manchester\, James\, ha vendido más de 25 millones de álbumes a lo largo de sus 42 años de carrera\, lo que la convierte en una de las bandas de mayor éxito comercial y artístico de su época. Conocidos por éxitos como «Come Home»\, «Sit Down» y «Laid»\, alcanzaron el éxito en los noventa con el álbum Gold Mother. \nTras un paréntesis\, su vuelta 2007 fue acogida con renovado éxito\, dando lugar a una celebrada segunda era con álbumes como Hey Ma y La Petite Mort. Con temas de relevancia social\, sus recientes álbumes como Living in Extraordinary Times y All the Colours of You han merecido el aplauso de la crítica. A pesar de los retos\, siguen evolucionando\, como se ve en su lanzamiento de 2021 Yummy\, demostrando que\, incluso después de 40 años\, siguen siendo una fuerza vital per la música. \n\n\n\n\nENTRADAS: \nwww.suitefestival.com/es/entradas/
URL:https://extrememusicevents.com/previa/james/
LOCATION:RAZZMATAZZ 1\, Carrer dels Almogàvers\, 122\, BARCELONA\, BARCELONA\, 08018\, España
ATTACH;FMTTYPE=image/jpeg:https://extrememusicevents.com/wp-content/uploads/2024/05/2024-05-15-James.jpg
END:VEVENT
END:VCALENDAR