BEGIN:VCALENDAR
VERSION:2.0
PRODID:-//EXTREME MUSIC EVENTS - ECPv5.16.4//NONSGML v1.0//EN
CALSCALE:GREGORIAN
METHOD:PUBLISH
X-WR-CALNAME:EXTREME MUSIC EVENTS
X-ORIGINAL-URL:https://extrememusicevents.com
X-WR-CALDESC:Eventos para EXTREME MUSIC EVENTS
BEGIN:VTIMEZONE
TZID:Europe/Madrid
BEGIN:DAYLIGHT
TZOFFSETFROM:+0100
TZOFFSETTO:+0200
TZNAME:CEST
DTSTART:20240331T010000
END:DAYLIGHT
BEGIN:STANDARD
TZOFFSETFROM:+0200
TZOFFSETTO:+0100
TZNAME:CET
DTSTART:20241027T010000
END:STANDARD
END:VTIMEZONE
BEGIN:VEVENT
DTSTART;TZID=Europe/Madrid:20240414T203000
DTEND;TZID=Europe/Madrid:20240414T233000
DTSTAMP:20260422T172243
CREATED:20240410T164719Z
LAST-MODIFIED:20240410T164719Z
UID:9234-1713126600-1713137400@extrememusicevents.com
SUMMARY:JP SAXE
DESCRIPTION:El artista cautivó a audiencias de todo el mundo con ‘If The World Was Ending’ (feat. Julia Michaels). Nominada a Canción del Año en los Premios GRAMMY® 2021\, con más de mil millones de reproducciones en streaming y certificada doble platino en EE. UU. y seis veces platino en Canadá\, preparó el camino para su álbum debut\, Dangerous Levels of Introspection\, que incluye los singles ‘A Little Bit Yours’\, ‘Line By Line’ (feat. Maren Morris) y ‘Here’s Hopin’’ (feat. John Mayer). \nJP Saxe brilló en sus actuaciones en los programas de la television estadounidense The Late Show with Stephen Colbert acompañado de John Mayer\, The Tonight Show Starring Jimmy Fallon\, The Late Late Show with James Corden y más. \nHasta la fecha\, JP Saxe ha acumulado más de 2.500 millones de reproducciones y fue ganador del premio al Artista Revelación del Año en los Premios JUNO 2021\, donde estuvo nominado a cinco categorías. \nEn el último año\, JP Saxe ofreció actuaciones en vivo memorables\, abriendo los shows de Alicia Keys y Lewis Capaldi. Actualmente\, JP Saxe es el artista invitado de la aclamada gira ‘Solo Tour’ de John Mayer. \n  \nENTRADAS: \nwww.livenation.es/event/allevents
URL:https://extrememusicevents.com/previa/jp-saxe/
LOCATION:RAZZMATAZZ 2\, Pamplona 88\, BARCELONA\, BARCELONA\, 08018\, España
ATTACH;FMTTYPE=image/jpeg:https://extrememusicevents.com/wp-content/uploads/2024/04/2024-04-14-JP-Saxe.jpg
END:VEVENT
END:VCALENDAR