BEGIN:VCALENDAR
VERSION:2.0
PRODID:-//EXTREME MUSIC EVENTS - ECPv5.16.4//NONSGML v1.0//EN
CALSCALE:GREGORIAN
METHOD:PUBLISH
X-WR-CALNAME:EXTREME MUSIC EVENTS
X-ORIGINAL-URL:https://extrememusicevents.com
X-WR-CALDESC:Eventos para EXTREME MUSIC EVENTS
BEGIN:VTIMEZONE
TZID:Europe/Madrid
BEGIN:DAYLIGHT
TZOFFSETFROM:+0100
TZOFFSETTO:+0200
TZNAME:CEST
DTSTART:20220327T010000
END:DAYLIGHT
BEGIN:STANDARD
TZOFFSETFROM:+0200
TZOFFSETTO:+0100
TZNAME:CET
DTSTART:20221030T010000
END:STANDARD
END:VTIMEZONE
BEGIN:VEVENT
DTSTART;TZID=Europe/Madrid:20220514T210000
DTEND;TZID=Europe/Madrid:20220514T233000
DTSTAMP:20260425T221222
CREATED:20191021T224108Z
LAST-MODIFIED:20210526T105430Z
UID:3935-1652562000-1652571000@extrememusicevents.com
SUMMARY:Larkin Poe
DESCRIPTION:Larkin Poe\, es una banda estadounidense de rock de raíces sureñas\, facción blues-rock. Liderada por las hermanas Rebecca y Megan Lowell\, que han sido bautizadas como «las hermanas pequeñas de Allman Brothers«\, y que ya en 2014 fueron votadas como «mejor descubrimiento de Glastonbury 2014» por el diario británico The Observer. \nEn sus inicios musicales\, las adolescentes hermanas\, se hacían llamar Lowell Sisters. Lucían un sonido más centrado en el bluegrass y la americana (ahí también las acompañaba su hermana mayor\, Jessica). Esa aventura produjo dos discos y duró hasta 2009\, hasta que en enero de 2010 se presentaron como Larkin Poe. \nPruebas de su ascenso\, es que por su tercer álbum\, “Peach” (2017)\, fueron nominadas como mejor artista emergente en los Blues Foundation Awards\, y que el cuarto y último\, “Venom & Faith” (2018)\, llegó al número 1 en las listas de blues del Billboard a las tres semanas de su publicación. \nCabe destacar el fuerte impacto (visualizaciones) que tienen las numerosas y personales versiones que cuelgan en su canal de YouTube\, fuente de la que ha bebido su sexto disco\, “Kindred Spirits”\, que verá la luz el 20 de noviembre de 2020. \n  \nENTRADAS: \nwww.houstonpartymusic.com/tickets/
URL:https://extrememusicevents.com/previa/larkin-poe/
LOCATION:APOLO\, Carrer Nou de la Rambla\, 113\, BARCELONA\, BARCELONA\, 08004\, España
ATTACH;FMTTYPE=image/jpeg:https://extrememusicevents.com/wp-content/uploads/2019/10/2022-05-14-Larkin-Poe.jpg
END:VEVENT
END:VCALENDAR