BEGIN:VCALENDAR
VERSION:2.0
PRODID:-//EXTREME MUSIC EVENTS - ECPv5.16.4//NONSGML v1.0//EN
CALSCALE:GREGORIAN
METHOD:PUBLISH
X-WR-CALNAME:EXTREME MUSIC EVENTS
X-ORIGINAL-URL:https://extrememusicevents.com
X-WR-CALDESC:Eventos para EXTREME MUSIC EVENTS
BEGIN:VTIMEZONE
TZID:Europe/Madrid
BEGIN:DAYLIGHT
TZOFFSETFROM:+0100
TZOFFSETTO:+0200
TZNAME:CEST
DTSTART:20240331T010000
END:DAYLIGHT
BEGIN:STANDARD
TZOFFSETFROM:+0200
TZOFFSETTO:+0100
TZNAME:CET
DTSTART:20241027T010000
END:STANDARD
END:VTIMEZONE
BEGIN:VEVENT
DTSTART;TZID=Europe/Madrid:20240129T200000
DTEND;TZID=Europe/Madrid:20240129T233000
DTSTAMP:20260422T073958
CREATED:20240119T075221Z
LAST-MODIFIED:20240119T075221Z
UID:9108-1706558400-1706571000@extrememusicevents.com
SUMMARY:Laura Pausini
DESCRIPTION:El 29 de enero de 2024 @laurapausini estará en directo en el @palausantjordi con su gira “Laura Pausini World Tour” 🌍 \nLa artista italiana vuelve a Barcelona para celebrar sus 30 años de trayectoria con sus grandes éxitos que forman parte ya de nuestras vidas 🫶🏼 \nEntradas a la venta el sábado 25 de marzo a las 9:00 h en clippersmusic.org y laurapausini.com \n  \nENTRADAS: \nwww.clippersmusic.org/live/conciertos/
URL:https://extrememusicevents.com/previa/laura-pausini/
LOCATION:PALAU SANT JORDI\, Passeig Olímpic\, 5-7\, BARCELONA\, BARCELONA\, 08038\, España
ATTACH;FMTTYPE=image/jpeg:https://extrememusicevents.com/wp-content/uploads/2024/01/2024-01-29-Laura-Pausini-Cartel.jpg
END:VEVENT
END:VCALENDAR