BEGIN:VCALENDAR
VERSION:2.0
PRODID:-//EXTREME MUSIC EVENTS - ECPv5.16.4//NONSGML v1.0//EN
CALSCALE:GREGORIAN
METHOD:PUBLISH
X-WR-CALNAME:EXTREME MUSIC EVENTS
X-ORIGINAL-URL:https://extrememusicevents.com
X-WR-CALDESC:Eventos para EXTREME MUSIC EVENTS
BEGIN:VTIMEZONE
TZID:Europe/Madrid
BEGIN:DAYLIGHT
TZOFFSETFROM:+0100
TZOFFSETTO:+0200
TZNAME:CEST
DTSTART:20230326T010000
END:DAYLIGHT
BEGIN:STANDARD
TZOFFSETFROM:+0200
TZOFFSETTO:+0100
TZNAME:CET
DTSTART:20231029T010000
END:STANDARD
END:VTIMEZONE
BEGIN:VEVENT
DTSTART;TZID=Europe/Madrid:20231102T190000
DTEND;TZID=Europe/Madrid:20231102T233000
DTSTAMP:20260423T044250
CREATED:20231027T183042Z
LAST-MODIFIED:20231027T183042Z
UID:8962-1698951600-1698967800@extrememusicevents.com
SUMMARY:Love of Lesbian
DESCRIPTION:Bajo el lema LOL : B2B : BCN\, Love of Lesbian regresa a Razzmatazz: la banda quiere celebrar en casa su exitoso Viaje Épico Hacia La Nada\, teniendo en cuenta las peticiones de sus fans que pedían a gritos que los catalanes cerrasen etapa en Barcelona. \n\n\nUna fecha inolvidable en la que LOL regresa a las salas en un gesto de claro apoyo a estos recintos como soporte fundamental del tejido cultural de las ciudades. Puede que sea una declaración de intenciones que el grupo ha definido como un Back To Basics. \n\n\nSerá un evento único y memorable en el que queda garantizado que todos los que allí estén\, sonreirán 😀 \n  \nENTRADAS: \nwww.loveoflesbianband.com/
URL:https://extrememusicevents.com/previa/love-of-lesbian-2/
LOCATION:RAZZMATAZZ 1\, Carrer dels Almogàvers\, 122\, BARCELONA\, BARCELONA\, 08018\, España
ATTACH;FMTTYPE=image/jpeg:https://extrememusicevents.com/wp-content/uploads/2023/10/2023-11-02-Love-of-Lesbian.jpg
END:VEVENT
END:VCALENDAR