BEGIN:VCALENDAR
VERSION:2.0
PRODID:-//EXTREME MUSIC EVENTS - ECPv5.16.4//NONSGML v1.0//EN
CALSCALE:GREGORIAN
METHOD:PUBLISH
X-WR-CALNAME:EXTREME MUSIC EVENTS
X-ORIGINAL-URL:https://extrememusicevents.com
X-WR-CALDESC:Eventos para EXTREME MUSIC EVENTS
BEGIN:VTIMEZONE
TZID:Europe/Madrid
BEGIN:DAYLIGHT
TZOFFSETFROM:+0100
TZOFFSETTO:+0200
TZNAME:CEST
DTSTART:20220327T010000
END:DAYLIGHT
BEGIN:STANDARD
TZOFFSETFROM:+0200
TZOFFSETTO:+0100
TZNAME:CET
DTSTART:20221030T010000
END:STANDARD
END:VTIMEZONE
BEGIN:VEVENT
DTSTART;TZID=Europe/Madrid:20220519T190000
DTEND;TZID=Europe/Madrid:20220519T233000
DTSTAMP:20260425T203229
CREATED:20201211T163549Z
LAST-MODIFIED:20220514T112830Z
UID:5550-1652986800-1653003000@extrememusicevents.com
SUMMARY:Lucifer
DESCRIPTION:Lucifer\, se caracterizan por su sonido Hard Rock pesado de los setenta\, con una buena dosis de Heavy Metal y Doom Rock. \nSus mayores influencias vienen de grupos como Black Sabbath\, Deep Purple\, Blue Öyster Cult\, Lucifer’s Friend\, Steppenwolf\, 70’s Heart y Fleetwood Mac. \nFundados en 2014 en Berlin por Johanna Sadonis. El grupo primero contó en la formación con miembros de Cathedral\, Angel Witch y Ladytron. Su primer single ‘Anubis” y su album debut ‘Lucifer I’ fueron escritos por Sadonis y Gerry Jennings de Cathedral (Rise Above)\, obteniendo reconocimiento internacional de forma casi inmediata. \nPara el capítulo dos\, Johanna se movió de Berlín a Estocolmo donde encontró en Nicke Andersson. Destacado por sus grupos The Hellacopters\, Entombed\, Imperial State Electric o Death Breath entre otros\, el perfecto compañero para escribir su música. Juntos escribieron ‘Lucifer II’\, producido por Nick en su propio estudio en el verano de 2017. \nAclamados por la crítica\, con ‘Lucifer II’ (Century Media) la banda entró en las listas de ventas de Suecia\, Alemania\, Reino Unido y América. \nEn medio de una gira mundial implacable\, el grupo volvió al estudio de Nick en Estocolmo para grabar ‘Lucifer III’\, que fue lanzado el pasado 20 de marzo\, justo al inicio de la pandemia. \nCon su poderoso single “Ghosts” lanzado en enero\, se evidenció que el grupo está preparado para escalar a lo más alto del Monte Olimpo del Rock. \n  \n!CANCELADO! \n  \nENTRADAS: \nhttps://ticketmadness.es/es/
URL:https://extrememusicevents.com/previa/lucifer/
LOCATION:BOVEDA\, Carrer de Roc Boronat\, 33\, BARCELONA\, BARCELONA\, 08005\, España
ATTACH;FMTTYPE=image/jpeg:https://extrememusicevents.com/wp-content/uploads/2020/12/2022-05-19-Lucifer.jpg
END:VEVENT
END:VCALENDAR