BEGIN:VCALENDAR
VERSION:2.0
PRODID:-//EXTREME MUSIC EVENTS - ECPv5.16.4//NONSGML v1.0//EN
CALSCALE:GREGORIAN
METHOD:PUBLISH
X-WR-CALNAME:EXTREME MUSIC EVENTS
X-ORIGINAL-URL:https://extrememusicevents.com
X-WR-CALDESC:Eventos para EXTREME MUSIC EVENTS
BEGIN:VTIMEZONE
TZID:Europe/Madrid
BEGIN:DAYLIGHT
TZOFFSETFROM:+0100
TZOFFSETTO:+0200
TZNAME:CEST
DTSTART:20240331T010000
END:DAYLIGHT
BEGIN:STANDARD
TZOFFSETFROM:+0200
TZOFFSETTO:+0100
TZNAME:CET
DTSTART:20241027T010000
END:STANDARD
END:VTIMEZONE
BEGIN:VEVENT
DTSTART;TZID=Europe/Madrid:20240613T213000
DTEND;TZID=Europe/Madrid:20240613T233000
DTSTAMP:20260421T133651
CREATED:20240605T180041Z
LAST-MODIFIED:20240605T181143Z
UID:9388-1718314200-1718321400@extrememusicevents.com
SUMMARY:Marc Anthony
DESCRIPTION:El ícono mundial de la salsa\, Marc Anthony\, se prepara para iniciar su gira por España con “Historia Tour”\, luego de su exitoso paso por Estados Unidos y Centroamérica. \nMarc Anthony está listo para hacer reír\, gozar y vivir a sus fanáticos interpretando sus éxitos más grandes como “Pa’lla Voy”\, “Mala”\, “Ojalá Te Duela”\, “Vivir Mi Vida”\, “Valió la Pena”\, “Y Hubo Alguien”\, “Tu Amor Me Hace Bien” o “Qué Precio Tiene el Cielo”. \nEl artista de salsa más vendido de todos los tiempos y verdadero embajador de la música y la cultura latina\, promete ofrecer a sus fanáticos una experiencia inolvidable en su paso por España con su gira “Historia Tour”. \nNo puedes perderte uno de los conciertos de esta gira\, donde @marcanthony cantará los hits más míticos de su trayectoria Muy atento porque las entradas son muy limitadas \nGIRA HISTORIA TOUR\n31 Mayo – Marbella\n11 Junio – Valencia\n13 Junio – Barcelona\n16 Junio – Sevilla\n18 Junio – Madrid \nENTRADAS: \nwww.enterticket.es/eventos/marc-anthony-barcelona-2024?
URL:https://extrememusicevents.com/previa/marc-anthony-2/
LOCATION:PALAU SANT JORDI\, Passeig Olímpic\, 5-7\, BARCELONA\, BARCELONA\, 08038\, España
ATTACH;FMTTYPE=image/jpeg:https://extrememusicevents.com/wp-content/uploads/2024/06/2024-06-13-Marc-Anthony.jpg
END:VEVENT
END:VCALENDAR