BEGIN:VCALENDAR
VERSION:2.0
PRODID:-//EXTREME MUSIC EVENTS - ECPv5.16.4//NONSGML v1.0//EN
CALSCALE:GREGORIAN
METHOD:PUBLISH
X-WR-CALNAME:EXTREME MUSIC EVENTS
X-ORIGINAL-URL:https://extrememusicevents.com
X-WR-CALDESC:Eventos para EXTREME MUSIC EVENTS
BEGIN:VTIMEZONE
TZID:Europe/Madrid
BEGIN:DAYLIGHT
TZOFFSETFROM:+0100
TZOFFSETTO:+0200
TZNAME:CEST
DTSTART:20250330T010000
END:DAYLIGHT
BEGIN:STANDARD
TZOFFSETFROM:+0200
TZOFFSETTO:+0100
TZNAME:CET
DTSTART:20251026T010000
END:STANDARD
END:VTIMEZONE
BEGIN:VEVENT
DTSTART;TZID=Europe/Madrid:20250514T200000
DTEND;TZID=Europe/Madrid:20250514T233000
DTSTAMP:20260423T192823
CREATED:20250414T220852Z
LAST-MODIFIED:20250414T220906Z
UID:10135-1747252800-1747265400@extrememusicevents.com
SUMMARY:Mark Ambor
DESCRIPTION:El vocalista\, productor y multi-instrumentista revelación Mark Ambor confirma una serie de conciertos para el próximo otoño y primavera dentro de Rockwood Tour 2024/25. Comenzando en octubre\, la gira\, que celebra su esperado álbum debut Rockwood\, llevará al artista a actuar en las principales ciudades de Estados Unidos\, Reino Unido y Europa\, incluyendo conciertos en el Irving Plaza de Nueva York\, el Fonda Theatre de Los Ángeles\, The Basement East de Nashville o el Metro de Chicago\, entre otros. En nuestro país\, el artista neoyorquino actuará el 14 de mayo en la sala Razzmatazz 2 de Barcelona y el 15 de mayo en la sala But de Madrid. \nEl éxito de Ambor\, «Belong Together»\, sigue arrasando en todo el mundo. Actualmente\, la canción está en el Top 40 del Billboard Global 200 con más de 350 millones de reproducciones en todas las plataformas\, alcanzando casi 5 millones al día. Recientemente\, el artista también debutó en la televisión interpretando la canción en el especial de fuegos artificiales del 4 de julio de NBC y Macy’s. \nRockwood fue escrito y producido por Ambor en la casa de su infancia\, donde grabó las canciones que le empezaron a dar reconocimiento. El álbum lleva el nombre del Bosque Estatal Rockwood\, un lugar muy especial para el artista durante su infancia y adolescencia\, y donde pasó mucho tiempo con su familia y amigos años atrás. Además de «Belong Together\,» el nuevo trabajo de Ambor incluirá canciones ya conocidas como «I Hope It All Works Out\,» «Our Way» y «Good To Be\,« que han aparecido en listas de más de 25 países. \nDesde que publicó sus primeros temas en 2020 hasta rápidamente tener millones de oyentes mensuales y agotar su primera gira en menos de un día\, el ascenso de Mark Ambor ha sido meteórico. Desde su EP debut\, Hello World\, este músico emergente de 26 años ha estado en la cima de las listas\, agotando las entradas para sus conciertos en todo el mundo\, consolidándose así como un artista a seguir. \n  \nENTRADAS: \nwww.livenation.es/agenda
URL:https://extrememusicevents.com/previa/mark-ambor/
LOCATION:RAZZMATAZZ 2\, Pamplona 88\, BARCELONA\, BARCELONA\, 08018\, España
ATTACH;FMTTYPE=image/jpeg:https://extrememusicevents.com/wp-content/uploads/2025/04/2025-05-14-Mark-Ambor.jpg
END:VEVENT
END:VCALENDAR