BEGIN:VCALENDAR
VERSION:2.0
PRODID:-//EXTREME MUSIC EVENTS - ECPv5.16.4//NONSGML v1.0//EN
CALSCALE:GREGORIAN
METHOD:PUBLISH
X-WR-CALNAME:EXTREME MUSIC EVENTS
X-ORIGINAL-URL:https://extrememusicevents.com
X-WR-CALDESC:Eventos para EXTREME MUSIC EVENTS
BEGIN:VTIMEZONE
TZID:Europe/Madrid
BEGIN:DAYLIGHT
TZOFFSETFROM:+0100
TZOFFSETTO:+0200
TZNAME:CEST
DTSTART:20240331T010000
END:DAYLIGHT
BEGIN:STANDARD
TZOFFSETFROM:+0200
TZOFFSETTO:+0100
TZNAME:CET
DTSTART:20241027T010000
END:STANDARD
END:VTIMEZONE
BEGIN:VEVENT
DTSTART;TZID=Europe/Madrid:20240223T210000
DTEND;TZID=Europe/Madrid:20240223T233000
DTSTAMP:20260422T064434
CREATED:20240221T193811Z
LAST-MODIFIED:20240221T193811Z
UID:9137-1708722000-1708731000@extrememusicevents.com
SUMMARY:MISS CAFFEINA
DESCRIPTION:Miss Caffeina se despide temporalmente de su público con una emocionante nueva gira que promete sorprender a todos sus seguidores. Valencia\, Málaga\, Madrid\, Alicante y Barcelona son las ciudades en las que tendrá parada «Sayonara Baby»\, una gira compuesta por cinco shows muy especiales en los que la banda repasará sus canciones más icónicas. «Sayonara Baby» es la tercera parte de una gira que comenzó hace un año con el lanzamiento de su álbum «El Año del Tigre». Desde la publicación de «Oh Long Johnson» han tenido lugar dos nuevos trabajos y más de 200 conciertos en salas y festivales\, a los que se suma el proyecto efímero de Dancetería. La banda pone\, por ahora\, punto y final a más de cuatro años de conciertos ininterrumpidos.  \nUna despedida de los escenarios por todo lo alto\, donde los asistentes pueden esperar un espectáculo diferente lleno de momentos inolvidables con la interpretación de temas que han marcado su trayectoria y que volverán al setlist únicamente en estas citas tan especiales. \n  \nENTRADAS: \nwww.hookmanagement.net
URL:https://extrememusicevents.com/previa/miss-caffeina-2/
LOCATION:RAZZMATAZZ 1\, Carrer dels Almogàvers\, 122\, BARCELONA\, BARCELONA\, 08018\, España
ATTACH;FMTTYPE=image/jpeg:https://extrememusicevents.com/wp-content/uploads/2024/02/2024-02-23-Miss-Caffeina.jpg
END:VEVENT
END:VCALENDAR