BEGIN:VCALENDAR
VERSION:2.0
PRODID:-//EXTREME MUSIC EVENTS - ECPv5.16.4//NONSGML v1.0//EN
CALSCALE:GREGORIAN
METHOD:PUBLISH
X-WR-CALNAME:EXTREME MUSIC EVENTS
X-ORIGINAL-URL:https://extrememusicevents.com
X-WR-CALDESC:Eventos para EXTREME MUSIC EVENTS
BEGIN:VTIMEZONE
TZID:Europe/Madrid
BEGIN:DAYLIGHT
TZOFFSETFROM:+0100
TZOFFSETTO:+0200
TZNAME:CEST
DTSTART:20230326T010000
END:DAYLIGHT
BEGIN:STANDARD
TZOFFSETFROM:+0200
TZOFFSETTO:+0100
TZNAME:CET
DTSTART:20231029T010000
END:STANDARD
END:VTIMEZONE
BEGIN:VEVENT
DTSTART;TZID=Europe/Madrid:20231124T193000
DTEND;TZID=Europe/Madrid:20231124T233000
DTSTAMP:20260423T025424
CREATED:20230622T220156Z
LAST-MODIFIED:20230622T220156Z
UID:8598-1700854200-1700868600@extrememusicevents.com
SUMMARY:Napalm Death
DESCRIPTION:La legendaria formación británica Napalm Death\, pionera indiscutible del grindcore\, anuncia una extensa gira europea que salpicará a nuestro país con nada menos que 5 fechas repartidas por todo el territorio nacional. “Resentment Is Always Seismic – A Final Throw of Throes”\, mini álbum del que toma su nombre la gira\, supuso el año pasado el epílogo perfecto a su demoledor “Throes of Joy in the Jaws of Defeatism” (2020)\, un discazo que hoy\, 3 años después\, no podemos dejar de escuchar. \nCatalizadores de un sin fin de influencias y dueños de una torrencial discografía que lleva 35 años haciéndonos vibrar\, Napalm Death se erigen como uno de los máximos referentes\, no ya dentro de la escena del metal extremo\, sino de todo el arco que supone la música contemporánea\, gracias a un insobornable y feroz compromiso con la más incendiaria libertad. \nEse incendio se extenderá por nuestro país durante el próximo otoño así que toma nota: el 19 de noviembre en la Copérnico de Madrid\, el 22 de noviembre en la sala Custom de Sevilla\, el 23 en la Garaje Beat de Murcia\, 24 en Salamandra de L’Hospitalet\, Barcelona y finalmente el 25 de noviembre en la Santana27 de Bilbao. \n  \nENTRADAS: \nwww.madnesslive.es/es/12-entradas
URL:https://extrememusicevents.com/previa/napalm-death/
LOCATION:SALAMANDRA\, Av. Carrilet\, 235\, HOSPITALET DEL LLOBREGAT\, BARCELONA\, 08907\, España
ATTACH;FMTTYPE=image/jpeg:https://extrememusicevents.com/wp-content/uploads/2023/06/2023-11-24-Napalm-Death.jpg
END:VEVENT
END:VCALENDAR