BEGIN:VCALENDAR
VERSION:2.0
PRODID:-//EXTREME MUSIC EVENTS - ECPv5.16.4//NONSGML v1.0//EN
CALSCALE:GREGORIAN
METHOD:PUBLISH
X-WR-CALNAME:EXTREME MUSIC EVENTS
X-ORIGINAL-URL:https://extrememusicevents.com
X-WR-CALDESC:Eventos para EXTREME MUSIC EVENTS
BEGIN:VTIMEZONE
TZID:Europe/Madrid
BEGIN:DAYLIGHT
TZOFFSETFROM:+0100
TZOFFSETTO:+0200
TZNAME:CEST
DTSTART:20240331T010000
END:DAYLIGHT
BEGIN:STANDARD
TZOFFSETFROM:+0200
TZOFFSETTO:+0100
TZNAME:CET
DTSTART:20241027T010000
END:STANDARD
END:VTIMEZONE
BEGIN:VEVENT
DTSTART;TZID=Europe/Madrid:20240322T210000
DTEND;TZID=Europe/Madrid:20240322T233000
DTSTAMP:20260422T012519
CREATED:20240314T224402Z
LAST-MODIFIED:20240314T224402Z
UID:9155-1711141200-1711150200@extrememusicevents.com
SUMMARY:Nicki Nicole
DESCRIPTION:Nicki Nicole se reencuentra con su público español el 22 de marzo en Madrid (Wizink Center) y el 23 de marzo en Barcelona (Sant Jordi Club) \nNICKI NICOLE continúa brillando y “ALMA” su último material ha logrado generar una conexión inigualable con el público\, trasladándose a recintos cargados de emoción y una puesta artística y musical memorable. En un 2023 que la encuentra con reconocimientos y distinciones internacionales\, la rosarina abre su ALMA en España\, 21 de marzo en Wizink Center y 22 de marzo en Sant Jordi Club. \n\n\nLas presentaciones de “ALMA” han reunido a más de 70.000 personas en 6 Movistar Arena y ha sumado una nueva fecha\, el 13 de diciembre. Aparte\, Nicki visitó recientemente Montevideo y Ciudad de México y Monterrey\, reuniendo así cerca de 90 mil personas manteniendo su liderazgo en la escena urbana y cautivando con un talento escénico y compositivo que demostró no tener techo. \n\n\n“Si hay algo que entendí todo este tiempo\, es que ALMA no somos solo nosotros\, si no todos los que estamos conectados en cada rincón del mundo. Es por eso que hoy\, no estamos solos. estamos en vivo con un montón de gente que también tomó ALMA como propio”. \n\n\nLa merecida consagración de NICKI ya es un hecho\, y su impacto en la escena musical no sólo se traduce en reconocimiento y respeto de sus compañeros\, el público y la crítica\, sino que es faro para nuevas generaciones de artistas\, abriendo caminos y acompañando. \n\n\nHace poco sorprendió al mundo en la entrega de los Premios Billboard de la Música Latina llevando al escenario dos colaboraciones de primer nivel: interpretando su remix de «Por Las Noches» con Peso Pluma y uniéndose a Los Ángeles Azules en «Otra Noche» \n\n\nLa talentosa artista se hizo presente también en Billboard Latin Music Week como panelista destacada en «Boys Club No More!» junto a sus compañeros GALE\, Kany García\, Maria Becerra\, Nathy Peluso\, y Young Miko. \n\n\nSu nuevo álbum “ALMA” continúa escalando en todos los rankings y cosechando distinciones por la trascendencia e impacto en la escena musical. Recientemente fue elegido entre los mejores álbumes del 2023 por Rolling Stone. \n\n\nAdemás de su nominación a “Mejor Artista Sur” en los Premios MTV\, NICKI NICOLE ha sido nominada a los Premios Latin Grammys a Mejor Álbum de Música Urbana por “Alma” y Mejor canción Hip Hop por “Dispara”. \n\n\nEl tercer álbum de Nicki Nicole: ALMA presenta las grandes colaboraciones de Milo J\, Young Miko\, Rels B e YSY A\, mientras Nicki mezcla géneros\, sonidos y sentimientos en un álbum íntimo y experimental.  \n  \n\nENTRADAS: \nwww.33producciones.es/nickinicole
URL:https://extrememusicevents.com/previa/nicki-nicole/
LOCATION:SANT JORDI CLUB\, Passeig Olímpic\, 5-7\, BARCELONA\, BARCELONA\, 08038\, España
ATTACH;FMTTYPE=image/jpeg:https://extrememusicevents.com/wp-content/uploads/2024/03/2024-03-22-Nicki-Nicole.jpg
END:VEVENT
END:VCALENDAR