BEGIN:VCALENDAR
VERSION:2.0
PRODID:-//EXTREME MUSIC EVENTS - ECPv5.16.4//NONSGML v1.0//EN
CALSCALE:GREGORIAN
METHOD:PUBLISH
X-WR-CALNAME:EXTREME MUSIC EVENTS
X-ORIGINAL-URL:https://extrememusicevents.com
X-WR-CALDESC:Eventos para EXTREME MUSIC EVENTS
BEGIN:VTIMEZONE
TZID:Europe/Madrid
BEGIN:DAYLIGHT
TZOFFSETFROM:+0100
TZOFFSETTO:+0200
TZNAME:CEST
DTSTART:20220327T010000
END:DAYLIGHT
BEGIN:STANDARD
TZOFFSETFROM:+0200
TZOFFSETTO:+0100
TZNAME:CET
DTSTART:20221030T010000
END:STANDARD
END:VTIMEZONE
BEGIN:VEVENT
DTSTART;TZID=Europe/Madrid:20221123T190000
DTEND;TZID=Europe/Madrid:20221123T233000
DTSTAMP:20260420T065251
CREATED:20211124T123227Z
LAST-MODIFIED:20211124T123549Z
UID:7201-1669230000-1669246200@extrememusicevents.com
SUMMARY:Opeth
DESCRIPTION:Una década es mucho tiempo. Eso es lo que llevaban Opeth sin venir de gira por nuestro país. Si bien hemos podido contar con su presencia en algunos festivales\, han pasado diez largos años sin poder disfrutar en sala de uno de los mayores estandartes del metal progresivo a nivel internacional. \nDesde que viraran una vez más su rumbo en 2011 con «Heritage»\, Opeth han seguido explorando universos cada vez más personales entrelazados con ese lado macabro y misterioso que nos llevaría al fondo del Maelstrom con «Sorceress» (2016) o su más reciente «In Cauda Venenum» (2019) \nVerdaderos devotos de Opeth\, desde esta casa llevamos más de dos décadas rindiéndonos a los inescrutables caminos de una banda irrepetible que ha sabido renovarse con cada nueva entrega de su aventura sonora y cuya ambición les ha permitido caminar sobre las oscuras aguas de la complacencia con una elegancia sin par. Ahora por fin y después de tanto tiempo podremos asistir a sus cautivadores directos que tendrán lugar el 23\, 24 y 25 de noviembre de 2022 en la sala Razzmatazz de Barcelona\, Santana 27 de Bilbao y La Riviera de Madrid respectivamente. ¡Una exquisita experiencia que no debes perderte! \n  \nENTRADAS: \nhttps://ticketmadness.es/es/
URL:https://extrememusicevents.com/previa/opeth/
LOCATION:RAZZMATAZZ 1\, Carrer dels Almogàvers\, 122\, BARCELONA\, BARCELONA\, 08018\, España
ATTACH;FMTTYPE=image/jpeg:https://extrememusicevents.com/wp-content/uploads/2021/11/2022-11-23-opeth.jpg
END:VEVENT
END:VCALENDAR