BEGIN:VCALENDAR
VERSION:2.0
PRODID:-//EXTREME MUSIC EVENTS - ECPv5.16.4//NONSGML v1.0//EN
CALSCALE:GREGORIAN
METHOD:PUBLISH
X-WR-CALNAME:EXTREME MUSIC EVENTS
X-ORIGINAL-URL:https://extrememusicevents.com
X-WR-CALDESC:Eventos para EXTREME MUSIC EVENTS
BEGIN:VTIMEZONE
TZID:Europe/Madrid
BEGIN:DAYLIGHT
TZOFFSETFROM:+0100
TZOFFSETTO:+0200
TZNAME:CEST
DTSTART:20220327T010000
END:DAYLIGHT
BEGIN:STANDARD
TZOFFSETFROM:+0200
TZOFFSETTO:+0100
TZNAME:CET
DTSTART:20221030T010000
END:STANDARD
END:VTIMEZONE
BEGIN:VEVENT
DTSTART;TZID=Europe/Madrid:20221018T080000
DTEND;TZID=Europe/Madrid:20221018T210000
DTSTAMP:20260424T015013
CREATED:20221012T101833Z
LAST-MODIFIED:20221012T101833Z
UID:8129-1666080000-1666126800@extrememusicevents.com
SUMMARY:Paradise Lost
DESCRIPTION:Padres indiscutibles del metal gótico\, los ingleses Paradise Lost llevan más de tres décadas bordeando el difícil equilibrio entre mantener viva su esencia y deformarla dando lugar a una constante reinvención de su identidad musical. Esta exploración los ha llevado a facturar un buen número de obras maestras\, álbumes inolvidables como «Gothic» (1991) con el que abrieron nuevos caminos y sentaron las bases del death doom\, o «Draconian Times» (1995) que supuso la conquista de puertos nunca expugnados para una banda de su calibre. \nParadise Lost continúan siendo una fuerza creativa vibrante\, vital e infinitamente elegante y buena prueba de esto es «Obsidian» (2020)\, el último trabajo que Nick Holmes y los suyos lanzaron\, y en cuyas cualidades\, las de la obsidiana\, encontramos una aproximación a la idiosincrasia de la banda: reflexivo\, oscuro y profundo. El decimosexto álbum de Paradise Lost alterna temas feroces y devastadores con otros apasionados o completamente desasosegantes\, haciendo de este uno de sus trabajos de enfoque más diverso. \nAhora\, y tras un largo silencio de dos años\, Madness Live! nos trae en exclusiva la extensa gira de Paradise Lost con nada más y nada menos que 4 fechas en nuestro país\, a saber\, 17\, 18\, 19 y 20 de octubre de 2022 en Bilbao\, Barcelona\, Murcia y Madrid respectivamente. ¡Volvemos! \n  \nENTRADAS: \nhttps://ticketmadness.es/es/
URL:https://extrememusicevents.com/previa/paradise-lost/
LOCATION:APOLO\, Carrer Nou de la Rambla\, 113\, BARCELONA\, BARCELONA\, 08004\, España
ATTACH;FMTTYPE=image/jpeg:https://extrememusicevents.com/wp-content/uploads/2022/10/2022-10-18-Paradise-Lost.jpg
END:VEVENT
END:VCALENDAR