BEGIN:VCALENDAR
VERSION:2.0
PRODID:-//EXTREME MUSIC EVENTS - ECPv5.16.4//NONSGML v1.0//EN
CALSCALE:GREGORIAN
METHOD:PUBLISH
X-WR-CALNAME:EXTREME MUSIC EVENTS
X-ORIGINAL-URL:https://extrememusicevents.com
X-WR-CALDESC:Eventos para EXTREME MUSIC EVENTS
BEGIN:VTIMEZONE
TZID:Europe/Madrid
BEGIN:DAYLIGHT
TZOFFSETFROM:+0100
TZOFFSETTO:+0200
TZNAME:CEST
DTSTART:20240331T010000
END:DAYLIGHT
BEGIN:STANDARD
TZOFFSETFROM:+0200
TZOFFSETTO:+0100
TZNAME:CET
DTSTART:20241027T010000
END:STANDARD
END:VTIMEZONE
BEGIN:VEVENT
DTSTART;TZID=Europe/Madrid:20240724T083000
DTEND;TZID=Europe/Madrid:20240724T233000
DTSTAMP:20260424T160701
CREATED:20240721T211537Z
LAST-MODIFIED:20240721T211537Z
UID:9491-1721809800-1721863800@extrememusicevents.com
SUMMARY:Pixies
DESCRIPTION:La banda referencia del rock alternativo\, Pixies\, vuelve a España este verano. Su gira europea pasará el 24 de julio por la sala Razzmatazz de Barcelona y el 28 de julio por el festival Noches del Botánico en Madrid. \nLas entradas para el concierto de Barcelona salen a la venta el próximo lunes 19 de febrero a las 10h en livenation.es y ticketmaster.es. Además\, para el concierto de Barcelona\, se iniciará una preventa el viernes 16 de febrero a las 14h para todos las personas que estén registradas en livenation.es. \nLas entradas para el concierto de Madrid salen a la venta el martes 20 de febrero a las 12h en livenation.es. \nPixies son considerados la banda más influyente y pionera del movimiento alt/rock de finales de los 80 habiendo servido de gran influencia para artistas como Nirvana\, Pearl Jam\, Radiohead\, The Strokes\, Weezer y muchos más.  Hoy en día toda una nueva generación de aficionados a la música ha descubierto y abrazado el sonido característico de la banda «loudquietloud».  Las melodías extravagantes y pegadizas siempre han sido la tarjeta de presentaciónde Pixies. La prueba son sus siete álbumes de estudio que definen el género\, incluido Surfer Rosa y el icónico Doolittle\, considerado uno de los álbumes de alt/rock por excelencia de todos los tiempos. \nTras la publicación de su último álbum Doggerel (2022)\, Pixies estuvo de gira durante 2022 y 2023 por todo el mundo con las entradas agotadas y celebrando el último concierto en el Hollywood Bowl de Los Ángeles. A pesar de que la banda está a punto de cumplir 38 años juntos\, el público sigue siendo tan diverso como siempre\, y cada año surgen nuevas generaciones de fans que ni siquiera habían nacido durante Pixies 1.0. \nLos directos de Pixies son magia pura\, electrizante y lo-fi al mismo tiempo.  Setenta y cinco minutos de la banda tocando lo que quieran\, en el orden que quieran\, los clásicos y las nuevas joyas. No hay dos conciertos de Pixies iguales. En el verano de 2024 Pixies recorrerá Europa tocando el los festivales más importantes del territorio. \n  \nENTRADAS: \nwww.livenation.es/event/allevents?location=Barcelona&page=1
URL:https://extrememusicevents.com/previa/pixies-2/
LOCATION:RAZZMATAZZ 1\, Carrer dels Almogàvers\, 122\, BARCELONA\, BARCELONA\, 08018\, España
ATTACH;FMTTYPE=image/jpeg:https://extrememusicevents.com/wp-content/uploads/2024/07/2024-07-24-Pixies.jpg
END:VEVENT
END:VCALENDAR