BEGIN:VCALENDAR
VERSION:2.0
PRODID:-//EXTREME MUSIC EVENTS - ECPv5.16.4//NONSGML v1.0//EN
CALSCALE:GREGORIAN
METHOD:PUBLISH
X-WR-CALNAME:EXTREME MUSIC EVENTS
X-ORIGINAL-URL:https://extrememusicevents.com
X-WR-CALDESC:Eventos para EXTREME MUSIC EVENTS
BEGIN:VTIMEZONE
TZID:Europe/Madrid
BEGIN:DAYLIGHT
TZOFFSETFROM:+0100
TZOFFSETTO:+0200
TZNAME:CEST
DTSTART:20240331T010000
END:DAYLIGHT
BEGIN:STANDARD
TZOFFSETFROM:+0200
TZOFFSETTO:+0100
TZNAME:CET
DTSTART:20241027T010000
END:STANDARD
END:VTIMEZONE
BEGIN:VEVENT
DTSTART;TZID=Europe/Madrid:20240626T213000
DTEND;TZID=Europe/Madrid:20240626T233000
DTSTAMP:20260420T181932
CREATED:20240618T161955Z
LAST-MODIFIED:20240618T162044Z
UID:9425-1719437400-1719444600@extrememusicevents.com
SUMMARY:Queens of the Stone Age
DESCRIPTION:Formada por Joshua Homme con el telón de fondo de Palm Desert\, en California\, en la década de 1990\, Queens of the Stone Age es lo que sucede cuando una entidad musical multidimensional supera el género que creó. Demasiado prolífico\, ambicioso y simplemente brillante para estar atado o limitado por los límites de cualquier género. En última instancia\, transformándose en el gigante que ha bendecido al mundo con una variedad de éxitos desde “No One Knows” hasta “Little Sister”\, “My God is the Sun” y “The Way You Used To Do” y todo lo demás. Sin lugar a dudas rock\, sí\, siempre\, pero con la sangre\, el sudor y la arrogancia mágica y oscura que solo Homme y sus secuaces pueden evocar. \n  \nENTRADAS: \nwww.ticketmaster.es/artist/alma-festival-entradas \n 
URL:https://extrememusicevents.com/previa/queens-of-the-stone-age/
LOCATION:POBLE ESPANYOL\, Av. Francesc Ferrer i Guàrdia\, 13\, Barcelona\, Barcelona\, 08038
ATTACH;FMTTYPE=image/jpeg:https://extrememusicevents.com/wp-content/uploads/2024/06/HOZIER-BCN-Sold-out-2.jpg
END:VEVENT
END:VCALENDAR