BEGIN:VCALENDAR
VERSION:2.0
PRODID:-//EXTREME MUSIC EVENTS - ECPv5.16.4//NONSGML v1.0//EN
CALSCALE:GREGORIAN
METHOD:PUBLISH
X-WR-CALNAME:EXTREME MUSIC EVENTS
X-ORIGINAL-URL:https://extrememusicevents.com
X-WR-CALDESC:Eventos para EXTREME MUSIC EVENTS
BEGIN:VTIMEZONE
TZID:Europe/Madrid
BEGIN:DAYLIGHT
TZOFFSETFROM:+0100
TZOFFSETTO:+0200
TZNAME:CEST
DTSTART:20230326T010000
END:DAYLIGHT
BEGIN:STANDARD
TZOFFSETFROM:+0200
TZOFFSETTO:+0100
TZNAME:CET
DTSTART:20231029T010000
END:STANDARD
END:VTIMEZONE
BEGIN:VEVENT
DTSTART;TZID=Europe/Madrid:20231109T193000
DTEND;TZID=Europe/Madrid:20231109T233000
DTSTAMP:20260422T214201
CREATED:20230310T183017Z
LAST-MODIFIED:20230310T183050Z
UID:8356-1699558200-1699572600@extrememusicevents.com
SUMMARY:Rodrigo y Gabriela
DESCRIPTION:El dúo ganador de un Grammy\, Rodrigo y Gabriela\, actuará el 7 de noviembre en la sala La Paqui de Madrid y el 9 de noviembre en Razzmatazz 2 en Barcelona con motivo de su gira ‘In Between Thoughts…A New World Tour 2023’. \nEntradas a la venta a través de doctormusic.com (*) y entradas.com. El precio de las entradas es de 30 Euros (IVA incluido\, gastos de distribución no incluidos). También hay disponibles Packs VIP para Madrid y Barcelona. \nRodrigo y Gabriela crecieron con una ecléctica mezcla que va del rock clásico al flamenco\, pasando por el heavy metal. Una peculiar alquimia de influencias que caracterizan\, todavía hoy\, el trabajo del dúo mexicano. \nEn 2002 debutaron con su disco re-Foc\, a medida que iban desarrollando su particular estilo de música de guitarra y ganando reconocimiento por los extraordinarios espectáculos en directo. Además\, cuentan con otros 8 álbumes\, entre los que se encuentran Area 52\, 9 Dead Alive y Mettavolution\, que los convirtió en ganadores de un Grammy al Mejor Álbum Instrumental Contemporáneo en 2020. \nEl próximo viernes 21 de abril veremos la publicación de su proyecto más ambicioso\, In Between Thoughts…A New World\, un disco inspirado en el Advaita Vedanta con su característica interpretación a dos guitarras y que vendrá seguido de un tour que los llevará a actuar por todo el mundo. \n\nEn este nuevo trabajo\, autoproducido por los mismos Rodrigo y Gabriela\, en su estudio de Itxapa\, en México\, el dúo amplía su enfoque tradicional para incluir creativos elementos electrónicos y orquestales. Desde hoy\, ya se puede escuchar su primer adelanto\, ‘Descending To Nowhere’\, single que viene acompañado de un videoclip dirigido por la aclamada cineasta Olalla Rubio. \nEntre los éxitos del dúo se encuentran el haber actuado en 2010 en la Casa Blanca para el presidente y la primera dama de México en un evento organizado por Barack Obama; haber encabezado el escenario Jazz World en Glastonbury; haber agotado entradas en recintos como el Royal Albert Hall o la Ópera de Sydney; o haber actuado en ciudades como Tokio y París. \n  \nENTRADAS: \nwww.doctormusic.com/concierto-2023-rodrigo-y-gabriela
URL:https://extrememusicevents.com/previa/rodrigo-y-gabriela/
LOCATION:RAZZMATAZZ 2\, Pamplona 88\, BARCELONA\, BARCELONA\, 08018\, España
ATTACH;FMTTYPE=image/jpeg:https://extrememusicevents.com/wp-content/uploads/2023/03/2023-11-09-Rodrigo-y-Gabriela.jpg
END:VEVENT
END:VCALENDAR