BEGIN:VCALENDAR
VERSION:2.0
PRODID:-//EXTREME MUSIC EVENTS - ECPv5.16.4//NONSGML v1.0//EN
CALSCALE:GREGORIAN
METHOD:PUBLISH
X-WR-CALNAME:EXTREME MUSIC EVENTS
X-ORIGINAL-URL:https://extrememusicevents.com
X-WR-CALDESC:Eventos para EXTREME MUSIC EVENTS
BEGIN:VTIMEZONE
TZID:Europe/Madrid
BEGIN:DAYLIGHT
TZOFFSETFROM:+0100
TZOFFSETTO:+0200
TZNAME:CEST
DTSTART:20240331T010000
END:DAYLIGHT
BEGIN:STANDARD
TZOFFSETFROM:+0200
TZOFFSETTO:+0100
TZNAME:CET
DTSTART:20241027T010000
END:STANDARD
END:VTIMEZONE
BEGIN:VEVENT
DTSTART;TZID=Europe/Madrid:20240624T213000
DTEND;TZID=Europe/Madrid:20240624T233000
DTSTAMP:20260420T214856
CREATED:20240618T161532Z
LAST-MODIFIED:20240618T161532Z
UID:9421-1719264600-1719271800@extrememusicevents.com
SUMMARY:Sheryl Crow
DESCRIPTION:Compositora. Activista. Estrella de rock. Mujer. Campeona. Madre. Sheryl Crow\, ganadora de nueve premios Grammy\, es muchas cosas\, pero en el fondo\, sigue siendo un espíritu creativo que canaliza sus talentos en la música para elevar a las personas\, unirlas y hablar de las verdades que se vislumbran en el horizonte. La carrera de Crow va más allá de los sueños\, con canciones que definieron la tercera ola del feminismo\, una habilidad rockera para conquistar las listas de éxitos pop sin perder su esencia y la alegría del Medio Oeste lo suficientemente abierta para cautivar al mundo. Sus primeros nueve álbumes de estudio han vendido 35 millones de copias en todo el mundo; siete alcanzaron el Top 10 y cinco fueron certificados como ventas Multi-Platino. El 2023 marca otro hito para Crow\, ya que ha sido elegida para ingresar al Salón de la Fama del Rock and Roll. \n  \nENTRADAS: \nwww.ticketmaster.es/artist/alma-festival-entradas \n 
URL:https://extrememusicevents.com/previa/sheryl-crow/
LOCATION:POBLE ESPANYOL\, Av. Francesc Ferrer i Guàrdia\, 13\, Barcelona\, Barcelona\, 08038
ATTACH;FMTTYPE=image/png:https://extrememusicevents.com/wp-content/uploads/2024/06/Sin-titulo-3.png
END:VEVENT
END:VCALENDAR