BEGIN:VCALENDAR
VERSION:2.0
PRODID:-//EXTREME MUSIC EVENTS - ECPv5.16.4//NONSGML v1.0//EN
CALSCALE:GREGORIAN
METHOD:PUBLISH
X-WR-CALNAME:EXTREME MUSIC EVENTS
X-ORIGINAL-URL:https://extrememusicevents.com
X-WR-CALDESC:Eventos para EXTREME MUSIC EVENTS
BEGIN:VTIMEZONE
TZID:Europe/Madrid
BEGIN:DAYLIGHT
TZOFFSETFROM:+0100
TZOFFSETTO:+0200
TZNAME:CEST
DTSTART:20220327T010000
END:DAYLIGHT
BEGIN:STANDARD
TZOFFSETFROM:+0200
TZOFFSETTO:+0100
TZNAME:CET
DTSTART:20221030T010000
END:STANDARD
END:VTIMEZONE
BEGIN:VEVENT
DTSTART;TZID=Europe/Madrid:20221122T180000
DTEND;TZID=Europe/Madrid:20221122T233000
DTSTAMP:20260422T111205
CREATED:20221114T194836Z
LAST-MODIFIED:20221114T194836Z
UID:8218-1669140000-1669159800@extrememusicevents.com
SUMMARY:STICK TO YOUR GUNS
DESCRIPTION:Esta nueva gira volverá locxs a lxs amantes del hardcore. Llegará a España en noviembre y tendrá 3 fechas\, en Barcelona\, Madrid y Bilbao. \nStick To Your Guns es una de las bandas más trabajadas de la escena del hardcore internacional y vendrán a España para ser cabezas de esta potente gira que hemos preparado para finales de año. Tras dar un bolazo en el Resurrection Fest EG 2022\, los americanos regresan a nuestro país junto a los también increíbles Knocked Loose\, quienes también arrasaron este año\, Landmvrks y Soul Blind. \nEntradas ya a la venta. ¡Nos vemos allí! \nROUTE RESURRECTION 2022 – Stick To Your Guns + Knocked Loose + Landmvrks + Soul Blind: \n 22 de noviembre de 2022\n Barcelona\, Razzmatazz 2\n 23 de noviembre de 2022\n Madrid\, Mon Live\n 25 de noviembre de 2022\n Bilbao\, Stage Live \nHORARIOS:\nBARCELONA\n17:45 Puertas\n18:05 Soul Blind\n18:55 Landmvrks\n19:45 Knocked Loose\n21:00 Stick To Your Guns \n  \nENTRADAS: \nwww.resurrectionfest.es/route/stick-to-your-guns-tour-2022/
URL:https://extrememusicevents.com/previa/stick-to-your-guns/
LOCATION:RAZZMATAZZ 2\, Pamplona 88\, BARCELONA\, BARCELONA\, 08018\, España
ATTACH;FMTTYPE=image/jpeg:https://extrememusicevents.com/wp-content/uploads/2022/11/2022-11-22-Stick-To-Your-Guns.jpg
END:VEVENT
END:VCALENDAR