BEGIN:VCALENDAR
VERSION:2.0
PRODID:-//EXTREME MUSIC EVENTS - ECPv5.16.4//NONSGML v1.0//EN
CALSCALE:GREGORIAN
METHOD:PUBLISH
X-WR-CALNAME:EXTREME MUSIC EVENTS
X-ORIGINAL-URL:https://extrememusicevents.com
X-WR-CALDESC:Eventos para EXTREME MUSIC EVENTS
BEGIN:VTIMEZONE
TZID:Europe/Madrid
BEGIN:DAYLIGHT
TZOFFSETFROM:+0100
TZOFFSETTO:+0200
TZNAME:CEST
DTSTART:20260329T010000
END:DAYLIGHT
BEGIN:STANDARD
TZOFFSETFROM:+0200
TZOFFSETTO:+0100
TZNAME:CET
DTSTART:20261025T010000
END:STANDARD
END:VTIMEZONE
BEGIN:VEVENT
DTSTART;TZID=Europe/Madrid:20260203T200000
DTEND;TZID=Europe/Madrid:20260203T233000
DTSTAMP:20260419T150825
CREATED:20250918T195515Z
LAST-MODIFIED:20250918T195515Z
UID:10699-1770148800-1770161400@extrememusicevents.com
SUMMARY:Tarja & Marko Hietala
DESCRIPTION:¡Evento imperdible para los fans del metal sinfónico! Tarja Turunen y Marko Hietala\, dos iconos del género y exmiembros fundamentales de Nightwish\, unirán fuerzas de nuevo con una gira muy especial. Los dos artistas finlandeses harán cuatro fechas en nuestro país\, ofreciendo así una oportunidad única de revivir la magia de la etapa dorada de Nightwish en directo. \nEsta gira\, bautizada como «Living The Dream Together Tour 2026»\, contará con un concierto de cada uno de los dos artistas finlandeses con sus mejores temas en solitario\, pero también tendrá grandes clásicos de Nightwish seleccionados por Tarja y Marko. Y eso no es todo\, porque además podremos disfrutar de alguna que otra versión que seguro que cogerá por sorpresa a muchos fans. \nUna de esas oportunidades que solamente se dan una vez en la vida\, ¡no te lo pierdas! \n 30 de enero. Gijón\, Gijón Arena\n 31 de enero. Bilbao\, Santana 27\n 2 de febrero. Madrid\, La Riviera\n 3 de febrero. Barcelona\, Razzmatazz \n  \nENTRADAS: \nwww.resurrectionfest.es/route
URL:https://extrememusicevents.com/previa/tarja-marko-hietala/
LOCATION:RAZZMATAZZ 1\, Carrer dels Almogàvers\, 122\, BARCELONA\, BARCELONA\, 08018\, España
ATTACH;FMTTYPE=image/jpeg:https://extrememusicevents.com/wp-content/uploads/2025/09/2026-02-03-Tarja-Marko-Hietala.jpg
END:VEVENT
END:VCALENDAR