BEGIN:VCALENDAR
VERSION:2.0
PRODID:-//EXTREME MUSIC EVENTS - ECPv5.16.4//NONSGML v1.0//EN
CALSCALE:GREGORIAN
METHOD:PUBLISH
X-WR-CALNAME:EXTREME MUSIC EVENTS
X-ORIGINAL-URL:https://extrememusicevents.com
X-WR-CALDESC:Eventos para EXTREME MUSIC EVENTS
BEGIN:VTIMEZONE
TZID:Europe/Madrid
BEGIN:DAYLIGHT
TZOFFSETFROM:+0100
TZOFFSETTO:+0200
TZNAME:CEST
DTSTART:20240331T010000
END:DAYLIGHT
BEGIN:STANDARD
TZOFFSETFROM:+0200
TZOFFSETTO:+0100
TZNAME:CET
DTSTART:20241027T010000
END:STANDARD
END:VTIMEZONE
BEGIN:VEVENT
DTSTART;TZID=Europe/Madrid:20240120T183000
DTEND;TZID=Europe/Madrid:20240120T233000
DTSTAMP:20260422T021350
CREATED:20230727T195344Z
LAST-MODIFIED:20230727T195403Z
UID:8785-1705775400-1705793400@extrememusicevents.com
SUMMARY:TESSERACT
DESCRIPTION:Tras 5 años sin pisar nuestro país\, los británicos Tesseract encabezarán un nuevo Route Resurrection para los amantes del metal progresivo. En su emocionante gira europea\, estarán acompañados de dos bandazas como son Unprocessed y The Callous Daoboys. \nBarcelona y Madrid serán las ciudades elegidas para ser testigo de sus impresionantes actuaciones en vivo. ¿Estáis list@s para revivir uno de los mejores conciertos de Resurrection Fest 2016? \n 20 de enero de 2024\, Barcelona\, Apolo 1 \n 21 de enero de 2024\, Madrid\, Mon Live \n  \nENTRADAS: \nwww.resurrectionfest.es/route/tesseract-tour-2024/
URL:https://extrememusicevents.com/previa/tesseract/
LOCATION:APOLO\, Carrer Nou de la Rambla\, 113\, BARCELONA\, BARCELONA\, 08004\, España
ATTACH;FMTTYPE=image/jpeg:https://extrememusicevents.com/wp-content/uploads/2023/07/2024-01-20-TESSERACT.jpg
END:VEVENT
END:VCALENDAR