BEGIN:VCALENDAR
VERSION:2.0
PRODID:-//EXTREME MUSIC EVENTS - ECPv5.16.4//NONSGML v1.0//EN
CALSCALE:GREGORIAN
METHOD:PUBLISH
X-WR-CALNAME:EXTREME MUSIC EVENTS
X-ORIGINAL-URL:https://extrememusicevents.com
X-WR-CALDESC:Eventos para EXTREME MUSIC EVENTS
BEGIN:VTIMEZONE
TZID:Europe/Madrid
BEGIN:DAYLIGHT
TZOFFSETFROM:+0100
TZOFFSETTO:+0200
TZNAME:CEST
DTSTART:20230326T010000
END:DAYLIGHT
BEGIN:STANDARD
TZOFFSETFROM:+0200
TZOFFSETTO:+0100
TZNAME:CET
DTSTART:20231029T010000
END:STANDARD
END:VTIMEZONE
BEGIN:VEVENT
DTSTART;TZID=Europe/Madrid:20231120T200000
DTEND;TZID=Europe/Madrid:20231120T233000
DTSTAMP:20260422T213945
CREATED:20230622T215949Z
LAST-MODIFIED:20230622T215949Z
UID:8594-1700510400-1700523000@extrememusicevents.com
SUMMARY:The Aristocrats
DESCRIPTION:El Defrost Tour Europe 2023 del supergrupo The Aristocrats llega a nuestro país el próximo otoño para acabar de una vez por todas con la reciente «Era Glacial» que el mundo de la música en directo ha vivido. Formado por 3 de los mejores músicos del planeta\, cada uno en su disciplina\, The Aristocrats llevan toda una década dándonos alegrías con sus siempre aclamados álbumes de estudio\, desde su debut «The Aristocrats» (2011) hasta su original «You Know What…?» (2019). \nPero si algo tienen The Aristocrats que es para volverse loco\, es el descacharrante virtuosismo del que hacen gala en sus increíbles shows\, un carrusel de estilos y virguerías que no parece tener límite moviéndose con frescura\, elegancia y sentido del humor entre el rock\, el jazz\, el pop\, el metal o el country. ¡Todo es posible cuando The Aristocrats suben al escenario! \nToma nota porque serán 7 noches de verdadera locura e improvisación las que The Aristocrats nos tienen reservadas para el próximo mes de noviembre: el lunes 13 de noviembre estarán en la sala Capitol de Santiago de compostela\, el 14 en el Kafe Antzokia de Bilbao\, el 15 en la Changó de Madrid\, el 17 en la sala Custom de Sevilla\, el sábado 18 de noviembre en la Garaje de Murcia\, el 19 en la Rock City de Valencia y el 20 de noviembre en la Salamandra de L’Hospitalet de Llobregat cerrando el círculo. ¡Sálvese quién pueda! \n  \nENTRADAS: \nwww.madnesslive.es/es/12-entradas
URL:https://extrememusicevents.com/previa/the-aristocrats-2/
LOCATION:SALAMANDRA\, Av. Carrilet\, 235\, HOSPITALET DEL LLOBREGAT\, BARCELONA\, 08907\, España
ATTACH;FMTTYPE=image/jpeg:https://extrememusicevents.com/wp-content/uploads/2023/06/2023-11-20-The-aristocrats.jpg
END:VEVENT
END:VCALENDAR