BEGIN:VCALENDAR
VERSION:2.0
PRODID:-//EXTREME MUSIC EVENTS - ECPv5.16.4//NONSGML v1.0//EN
CALSCALE:GREGORIAN
METHOD:PUBLISH
X-WR-CALNAME:EXTREME MUSIC EVENTS
X-ORIGINAL-URL:https://extrememusicevents.com
X-WR-CALDESC:Eventos para EXTREME MUSIC EVENTS
BEGIN:VTIMEZONE
TZID:Europe/Madrid
BEGIN:DAYLIGHT
TZOFFSETFROM:+0100
TZOFFSETTO:+0200
TZNAME:CEST
DTSTART:20240331T010000
END:DAYLIGHT
BEGIN:STANDARD
TZOFFSETFROM:+0200
TZOFFSETTO:+0100
TZNAME:CET
DTSTART:20241027T010000
END:STANDARD
END:VTIMEZONE
BEGIN:VEVENT
DTSTART;TZID=Europe/Madrid:20240925T193000
DTEND;TZID=Europe/Madrid:20240925T233000
DTSTAMP:20260425T024727
CREATED:20240919T193245Z
LAST-MODIFIED:20240919T193245Z
UID:9547-1727292600-1727307000@extrememusicevents.com
SUMMARY:The HU
DESCRIPTION:La banda mongola The HU anuncia dos conciertos en España: el 25 de septiembre de 2024 en la sala Razzmatazz de Barcelona y el 26 de septiembre en La Riviera de Madrid.  \nProcedentes de Ulan Bator\, The HU utilizan instrumentos mongoles de cuerda y viento e incluyen el canto de garganta tradicional de Mongolia\, sonido al que integran las guitarras eléctricas\, el bajo y la batería del heavy metal. Su álbum debut The Gereg (2019)\, que significaba pasaporte diplomático en la época de Genghis Khan\, es el resultado de años de trabajo. \nSus primeros singles publicados en 2018 ‘Yuve Yuve Yu’ y ‘Wolf Totem’ – colaboración con el vocalista de Papa Roach\, Jacoby Shaddix – alcanzaron millones de visitas en YouTube\, lo que supuso un adelanto de lo que esta sorprendente formación podía ofrecer. Tras cruzar las fronteras con sus primeros éxitos\, en 2021 su versión de ‘Through the Never’ de Metallica fue incluida en el disco de la banda\, Blacklist. \nENTRADAS: \nwww.livenation.es/event/allevents?location=Barcelona&page=1
URL:https://extrememusicevents.com/previa/the-hu/
LOCATION:RAZZMATAZZ 1\, Carrer dels Almogàvers\, 122\, BARCELONA\, BARCELONA\, 08018\, España
ATTACH;FMTTYPE=image/jpeg:https://extrememusicevents.com/wp-content/uploads/2024/09/2024-09-25-The-Hu-Hishigten.jpg
END:VEVENT
END:VCALENDAR