BEGIN:VCALENDAR
VERSION:2.0
PRODID:-//EXTREME MUSIC EVENTS - ECPv5.16.4//NONSGML v1.0//EN
CALSCALE:GREGORIAN
METHOD:PUBLISH
X-WR-CALNAME:EXTREME MUSIC EVENTS
X-ORIGINAL-URL:https://extrememusicevents.com
X-WR-CALDESC:Eventos para EXTREME MUSIC EVENTS
BEGIN:VTIMEZONE
TZID:Europe/Madrid
BEGIN:DAYLIGHT
TZOFFSETFROM:+0100
TZOFFSETTO:+0200
TZNAME:CEST
DTSTART:20240331T010000
END:DAYLIGHT
BEGIN:STANDARD
TZOFFSETFROM:+0200
TZOFFSETTO:+0100
TZNAME:CET
DTSTART:20241027T010000
END:STANDARD
END:VTIMEZONE
BEGIN:VEVENT
DTSTART;TZID=Europe/Madrid:20240410T203000
DTEND;TZID=Europe/Madrid:20240410T233000
DTSTAMP:20260422T205034
CREATED:20240402T125904Z
LAST-MODIFIED:20240402T130053Z
UID:9208-1712781000-1712791800@extrememusicevents.com
SUMMARY:The Killers
DESCRIPTION:The Killers anuncian hoy un concierto muy especial el 10 de abril de 2024 en la sala Razzmatazz de Barcelona. El cuarteto de Las Vegas darán este concierto único antes de comenzar su gira que les llevará por las principales arenas y ser cabeza de cartel de festivales en Estados Unidos y Europa. \nLas entradas saldrán a la venta este jueves 4 de abril a las 10h en livenation.es y ticketmaster.es. Además\, las personas registradas en la web podrán acceder a una preventa exclusiva a partir del miércoles 3 de abril a las 10h en livenation.es. \nA lo largo de su carrera\, The Killers ha recibido innumerables elogios por sus logros artísticos\, incluidas múltiples nominaciones a los Grammy\, los MTV Video Music Awards\, NME Awards y muchos más. Su primer álbum\, Hot Fuss \, se publicó en 2004 y fue aclamado en todo el mundo. El álbum contenía los sencillos «Mr. Brightside» y «Somebody Told Me»\, además de la canción himno «All These Things That I’ve Done». La banda estuvo de gira durante dos años seguidos con Hot Fuss\, tocaron más de cuatrocientos conciertos y finalmente regresaron a Las Vegas para empezar a trabajar en su siguiente álbum con los legendarios productores Alan Moulder y Flood. \nEl resultado de este trabajo fue una  carta de amor a su ciudad natal\, Sam’s Town se publicó en 2006. Su tercer álbum de estudio Day & Age se publicó en 2008 con el beneplácito de la crítica por el single masivo «Human». The Killers publicó Battle Born en septiembre de 2012\, con el que giraron a nivel mundial incluyendo países que nunca antes habían visitado. Wonderful Wonderful lo publicaron en septiembre de 2017 y en 2020 The Killers publicó Imploding The Mirage\, aclamado por la crítica como uno de los mejores discos del ya estelar catálogo de la banda. \nA finales de 2023\, el grupo publicó Rebel Diamonds\, una inmersión curada en un impresionante catálogo de composiciones\, que ha consolidado a la banda como una de las voces más importantes de la música de las dos últimas décadas. El álbum incluye 20 temas\, entre ellos el recientemente diamante «Mr. Brightside»\, junto con otros clásicos modernos como «When You Were Young»\, «All These Things That I’ve Done»\, «Human»\, «Read My Mind» y muchas más. \nThe Killers han anunciado una residencia especial en Las Vegas para el verano de 2024\, en la que interpretarán su álbum seminal Hot Fuss al completo por primera vez para conmemorar su 20 aniversario. \n  \nENTRADAS: \nwww.livenation.es/event/allevents
URL:https://extrememusicevents.com/previa/the-killers/
LOCATION:RAZZMATAZZ 1\, Carrer dels Almogàvers\, 122\, BARCELONA\, BARCELONA\, 08018\, España
ATTACH;FMTTYPE=image/jpeg:https://extrememusicevents.com/wp-content/uploads/2024/04/2024-04-10-THE-KILLERS.jpg
END:VEVENT
END:VCALENDAR