BEGIN:VCALENDAR
VERSION:2.0
PRODID:-//EXTREME MUSIC EVENTS - ECPv5.16.4//NONSGML v1.0//EN
CALSCALE:GREGORIAN
METHOD:PUBLISH
X-WR-CALNAME:EXTREME MUSIC EVENTS
X-ORIGINAL-URL:https://extrememusicevents.com
X-WR-CALDESC:Eventos para EXTREME MUSIC EVENTS
BEGIN:VTIMEZONE
TZID:Europe/Madrid
BEGIN:DAYLIGHT
TZOFFSETFROM:+0100
TZOFFSETTO:+0200
TZNAME:CEST
DTSTART:20220327T010000
END:DAYLIGHT
BEGIN:STANDARD
TZOFFSETFROM:+0200
TZOFFSETTO:+0100
TZNAME:CET
DTSTART:20221030T010000
END:STANDARD
END:VTIMEZONE
BEGIN:VEVENT
DTSTART;TZID=Europe/Madrid:20220522T200000
DTEND;TZID=Europe/Madrid:20220522T233000
DTSTAMP:20260426T033925
CREATED:20210622T131202Z
LAST-MODIFIED:20220126T173546Z
UID:6409-1653249600-1653262200@extrememusicevents.com
SUMMARY:The Sheepdogs
DESCRIPTION:ENTRADAS: \nwww.livenation.es/event/allevents
URL:https://extrememusicevents.com/previa/the-sheepdogs/
LOCATION:WOLF\, Carrer dels Almogàvers\, 88\, Barcelona\, BARCELONA\, 08018\, España
ATTACH;FMTTYPE=image/jpeg:https://extrememusicevents.com/wp-content/uploads/2021/06/2022-05-22-The-Sheeodogs.jpg
END:VEVENT
END:VCALENDAR