BEGIN:VCALENDAR
VERSION:2.0
PRODID:-//EXTREME MUSIC EVENTS - ECPv5.16.4//NONSGML v1.0//EN
CALSCALE:GREGORIAN
METHOD:PUBLISH
X-WR-CALNAME:EXTREME MUSIC EVENTS
X-ORIGINAL-URL:https://extrememusicevents.com
X-WR-CALDESC:Eventos para EXTREME MUSIC EVENTS
BEGIN:VTIMEZONE
TZID:Europe/Madrid
BEGIN:DAYLIGHT
TZOFFSETFROM:+0100
TZOFFSETTO:+0200
TZNAME:CEST
DTSTART:20240331T010000
END:DAYLIGHT
BEGIN:STANDARD
TZOFFSETFROM:+0200
TZOFFSETTO:+0100
TZNAME:CET
DTSTART:20241027T010000
END:STANDARD
END:VTIMEZONE
BEGIN:VEVENT
DTSTART;TZID=Europe/Madrid:20240408T203000
DTEND;TZID=Europe/Madrid:20240408T233000
DTSTAMP:20260423T001856
CREATED:20240402T133638Z
LAST-MODIFIED:20240402T134055Z
UID:9213-1712608200-1712619000@extrememusicevents.com
SUMMARY:The Warning
DESCRIPTION:Preparadas para dominar el mundo en 2024\, las tres hermanas mexicanas que forman la banda de hard rock The Warning se embarcarán en una intensa gira europea que incluye cuatro fechas en España: el 4 de abril en La Riviera de Madrid\, el 6 de abril en la sala Capital de Santiago de Compostela\, el 8 de abril en la sala Razzmatazz de Barcelona y el 9 de abril en el Kafe Antzokia de Bilbao.  \nLas entradas estarán a la venta el viernes 24 de noviembre a las 10h en www.livenation.es y Ticketmaster.es. \nLos registrados en www.livenation.es tendrán acceso a una preventa el jueves 23 de noviembre a las 10h en nuestra web. \nTras agotar en pocas horas todas las entradas para los conciertos que ofrecieron en junio de 2023 en La Nau de Barcelona y en Shoko de Madrid\, The Warning vuelven a España\, en esta ocasión dando un salto a salas de mayor aforo. Y es que tras coleccionar los sold out y telonear a Muse y a Royal Blood durante su última gira de estadios el pasado verano\, la popularidad de este jovencísimo trío mexicano está creciendo de forma exponencial. \n\n\n\n\n\n\n\n\n\n\n\n\n\n\n\n\n\n\n\n\n\n\n\n\n\n\n\n\n\n\n\n\n\nThe Warning\, que interpretaron sus éxitos ‘MORE’ y ‘EVOLVE’ a la ocasión del Extended Play Stage de MTV en septiembre\, llamaron la atención durante su paso por la alfombre roja de medios de la talla de Billboard\, Vanity Fair\, People\, Entertainment Weekly\, The Cute\, Teen Vogue\, Cosmopolitan o Glamour entre muchos más. \nERROR\, su primer álbum en estudio\, ya acumula más de 175 millones de reproducciones y ha  recibido múltiples elogios de la crítica especializada. \n\n\n\n\n\n\n\n\n\n  \nENTRADAS: \nwww.livenation.es/event/allevents
URL:https://extrememusicevents.com/previa/the-warning/
LOCATION:RAZZMATAZZ 1\, Carrer dels Almogàvers\, 122\, BARCELONA\, BARCELONA\, 08018\, España
ATTACH;FMTTYPE=image/jpeg:https://extrememusicevents.com/wp-content/uploads/2024/04/2024-04-08-The-Warning.jpg
END:VEVENT
END:VCALENDAR