BEGIN:VCALENDAR
VERSION:2.0
PRODID:-//EXTREME MUSIC EVENTS - ECPv5.16.4//NONSGML v1.0//EN
CALSCALE:GREGORIAN
METHOD:PUBLISH
X-WR-CALNAME:EXTREME MUSIC EVENTS
X-ORIGINAL-URL:https://extrememusicevents.com
X-WR-CALDESC:Eventos para EXTREME MUSIC EVENTS
BEGIN:VTIMEZONE
TZID:Europe/Madrid
BEGIN:DAYLIGHT
TZOFFSETFROM:+0100
TZOFFSETTO:+0200
TZNAME:CEST
DTSTART:20240331T010000
END:DAYLIGHT
BEGIN:STANDARD
TZOFFSETFROM:+0200
TZOFFSETTO:+0100
TZNAME:CET
DTSTART:20241027T010000
END:STANDARD
END:VTIMEZONE
BEGIN:VEVENT
DTSTART;TZID=Europe/Madrid:20240409T203000
DTEND;TZID=Europe/Madrid:20240409T233000
DTSTAMP:20260422T223809
CREATED:20240402T133844Z
LAST-MODIFIED:20240402T133844Z
UID:9215-1712694600-1712705400@extrememusicevents.com
SUMMARY:Tom Odell
DESCRIPTION:El aclamado cantautor Tom Odell anuncia hoy los detalles de su próxima gira europea Black Friday Tour que comenzará en marzo de 2024 y será la mayor gira por de su carrera. La semana pasada anunció la fecha de publicación de su esperado nuevo álbum\, Black Friday\, que saldrá a la venta el 26 de enero. El británico lo presentará en España los días 9 de abril de 2024 en la sala Razzmatazz de Barcelona y el 10 de abril en La Riviera de Madrid. \nLas entradas para estos conciertos salen a la venta este viernes 27 de octubre a las 11h en livenation.es y ticketmaster.es. Además\, las personas que estén registradas en livenation.es o lo hagan en los próximos días podrán a acceder a la preventa a partir del jueves 26 a las 11h. \nGanador de los prestigiosos premios BRIT e Ivor Novello\, Tom Odell ha disfrutado de una década de carrera impresionante\, con cinco álbumes que le han valido 28 millones de oyentes mensuales en Spotify y un alcance social de 8 millones en todas las plataformas. \nCon su nuevo álbum Black Friday\, Tom Odell se adentra en un nuevo y rico capítulo musical de su notable trayectoria como cantante\, compositor y productor. Armado con una nueva sensación de libertad y control creativo\, es un hipnótico caleidoscopio de canciones construidas orgánicamente\, grabadas simplemente con Tom en su estudio\, guitarra en ristre\, cantando y grabando las canciones como fueron escritas\, con pura autenticidad. La delicada batería y el bajo\, junto con bellos arreglos de cuerda redondean la intimidad y el anhelo que impregnan todo el disco. Black Friday será un bienvenido regreso para los devotos de siempre\, a la vez que ganará nuevas legiones de fans. \nTom ha compartido hasta ahora dos fragmentos del nuevo disco: Somebody Else que llegó junto con el anuncio del álbum la semana pasada\, y su último single\, la canción que da título al nuevo álbum\, Black Friday. El single\, Black Friday\, se publicó el mes pasado y fue una de las entradas más altas de los últimos tiempos en la lista de éxitos del Reino Unido\, situando a Tom entre los 100 artistas con más streams del mundo\, con 2 millones de streams solo en su primer día y 20 millones de streams hasta la fecha. \nEl éxito Another Love también se hizo viral en 2022\, con más de 4 millones de creaciones en TikTok\, más de dos mil millones de streams y un puesto en el Top 10 de la Official Chart del Reino Unido y en la Hot AC estadounidense.\n\n\n\n\n\n\n\n\n\nENTRADAS: \nwww.livenation.es/event/allevents
URL:https://extrememusicevents.com/previa/tom-odell/
LOCATION:RAZZMATAZZ 1\, Carrer dels Almogàvers\, 122\, BARCELONA\, BARCELONA\, 08018\, España
ATTACH;FMTTYPE=image/jpeg:https://extrememusicevents.com/wp-content/uploads/2024/04/2024-04-09-Tom-Odell.jpg
END:VEVENT
END:VCALENDAR